BEGIN_USGS_DOQ_HEADER *
QUADRANGLE_NAME "BUFFALO CREEK" 3.45 or 7.5-min. name*
QUADRANT SE quadrant indicator if cell size = 3.75-minutes*
WEST_LONGITUDE -121 11 15.000 signed deg min sec SDDD MM SS.SSS*
EAST_LONGITUDE -121 7 30.000 signed deg min sec SDDD MM SS.SSS*
NORTH_LATITUDE 38 33 45.000 signed deg min sec SDDD MM SS.SSS*
SOUTH_LATITUDE 38 30 0.000 signed deg min sec SDDD MM SS.SSS*
PRODUCTION_DATE 1998 1 29 yyyy mm dd*
RASTER_ORDER LEFT_RIGHT/TOP_BOTTOM video display order*
BAND_ORGANIZATION "SINGLE FILE" single file or BSQ, or BIL or BIP*
BAND_CONTENT BLACK&WHITE black&white or red green blue*
BITS_PER_PIXEL 8 radiometric resolution*
SAMPLES_AND_LINES 6280 7660 number of columns and rows*
HORIZONTAL_DATUM NAD83 primary horizontal datum*
HORIZONTAL_COORDINATE_SYSTEM UTM *
COORDINATE_ZONE 10 coordinate system zone number*
HORIZONTAL_UNITS METERS coordinate system units*
HORIZONTAL_RESOLUTION 1.00 pixel horiz. ground sample distance*
SECONDARY_HORIZONTAL_DATUM NAD27 secondary horizontal datum*
XY_ORIGIN 657522.000 4270196.000 coord. of upper left pixel pri. datum*
SECONDARY_XY_ORIGIN 657618.007 4270001.236 coord upper left pixel sec datum*
NATION US nation code*
STATE CA state fip code*
NW_QUAD_CORNER_XY 657915.412 4269785.873 XY coords. of pri. NW quad corner*
NE_QUAD_CORNER_XY 663361.201 4269895.152 XY coords. of pri. NE quad corner*
SE_QUAD_CORNER_XY 663502.647 4262959.177 XY coords. of pri. SE quad corner*
SW_QUAD_CORNER_XY 658052.138 4262849.954 XY coords. of pri. SW quad corner*
SECONDARY_NW_QUAD_XY 657919.416 4269578.924 XY coords. - sec. NW quad cor.*
SECONDARY_NE_QUAD_XY 663365.343 4269688.205 XY coords. - sec. NE quad cor.*
SECONDARY_SE_QUAD_XY 663506.786 4262752.373 XY coords. - sec. SE quad cor.*
SECONDARY_SW_QUAD_XY 658056.139 4262643.147 XY coords. - sec. SW quad cor.*
RMSE_XY 0.80 doq horiz. accuracy*
IMAGE_SOURCE "BLACK AND WHITE FILM" b&w, cir, natural color, other*
SOURCE_IMAGE_ID "NAPP 6351 119" source image id*
SOURCE_IMAGE_DATE 1993 5 22 source image date as yyyy mm dd*
SOURCE_DEM_DATE 1998 1 29 source dem date yyyy mm dd*
AGENCY "WESTERN MAPPING CENTER (WMC)" oversight agency*
PRODUCER "WESTERN MAPPING CENTER (WMC)" *
PRODUCTION_SYSTEM "DV2.6.3 10/9OV2.4 5/95" production system*
STANDARD_VERSION 1996 12 version of DOQ standard*
METADATA_DATE 1998 2 23 date created or changed, yyyy mm dd*
DATA_FILE_SIZE 48111080 data set size in bytes*
BYTE_COUNT 6280 header byte count* * * * * * * * * * * * * * * * * * * * * * * * * * * * * * * * * * * *
END_USGS_HEADER *
