BEGIN_USGS_DOQ_HEADER *
QUADRANGLE_NAME "MERRITT" 3.45 or 7.5-min. name*
QUADRANT SW quadrant indicator if cell size = 3.75-minutes*
WEST_LONGITUDE -121 52 30.000 signed deg min sec SDDD MM SS.SSS*
EAST_LONGITUDE -121 48 45.000 signed deg min sec SDDD MM SS.SSS*
NORTH_LATITUDE 38 33 45.000 signed deg min sec SDDD MM SS.SSS*
SOUTH_LATITUDE 38 30 0.000 signed deg min sec SDDD MM SS.SSS*
PRODUCTION_DATE 1998 8 6 yyyy mm dd*
RASTER_ORDER LEFT_RIGHT/TOP_BOTTOM video display order*
BAND_ORGANIZATION "SINGLE FILE" single file or BSQ, or BIL or BIP*
BAND_CONTENT BLACK&WHITE black&white or red green blue*
BITS_PER_PIXEL 8 radiometric resolution*
SAMPLES_AND_LINES 6232 7618 number of columns and rows*
HORIZONTAL_DATUM NAD83 primary horizontal datum*
HORIZONTAL_COORDINATE_SYSTEM UTM *
COORDINATE_ZONE 10 coordinate system zone number*
HORIZONTAL_UNITS METERS coordinate system units*
HORIZONTAL_RESOLUTION 1.00 pixel horiz. ground sample distance*
SECONDARY_HORIZONTAL_DATUM NAD27 secondary horizontal datum*
XY_ORIGIN 597619.000 4269197.000 coord. of upper left pixel pri. datum*
SECONDARY_XY_ORIGIN 597715.172 4269001.591 coord upper left pixel sec datum*
NATION US nation code*
STATE CA state fip code*
NW_QUAD_CORNER_XY 598014.200 4268828.441 XY coords. of pri. NW quad corner*
NE_QUAD_CORNER_XY 603459.604 4268896.953 XY coords. of pri. NE quad corner*
SE_QUAD_CORNER_XY 603549.160 4261961.481 XY coords. of pri. SE quad corner*
SW_QUAD_CORNER_XY 598099.041 4261893.004 XY coords. of pri. SW quad corner*
SECONDARY_NW_QUAD_XY 598016.684 4268621.468 XY coords. - sec. NW quad cor.*
SECONDARY_NE_QUAD_XY 603462.227 4268689.981 XY coords. - sec. NE quad cor.*
SECONDARY_SE_QUAD_XY 603551.781 4261754.652 XY coords. - sec. SE quad cor.*
SECONDARY_SW_QUAD_XY 598101.524 4261686.174 XY coords. - sec. SW quad cor.*
RMSE_XY 1.20 doq horiz. accuracy*
IMAGE_SOURCE "BLACK AND WHITE FILM" b&w, cir, natural color, other*
SOURCE_IMAGE_ID "NAPP 6354 191" source image id*
SOURCE_IMAGE_DATE 1993 06 12 source image date as yyyy mm dd*
IMAGE_SOURCE "BLACK AND WHITE FILM" b&w, cir, natural color, other*
SOURCE_IMAGE_ID "NAPP 6357 095" source image id*
SOURCE_IMAGE_DATE 1993 06 16 source image date as yyyy mm dd*
IMAGE_SOURCE "BLACK AND WHITE FILM" b&w, cir, natural color, other*
SOURCE_IMAGE_ID "NAPP 6354 128" source image id*
SOURCE_IMAGE_DATE 1993 06 12 source image date as yyyy mm dd*
SOURCE_DEM_DATE 1981 00 00 source dem date yyyy mm dd*
AGENCY "WESTERN MAPPING CENTER (WMC)" oversight agency*
PRODUCER "SCIENCE APPLICATIONS INTERNATIONAL" producer/contractor*
PRODUCTION_SYSTEM "GIS/MAGIC" production system*
STANDARD_VERSION 1996 12 version of DOQ standard*
METADATA_DATE 1998 08 24 date created or changed, yyyy mm dd*
DATA_FILE_SIZE 47481608 data set size in bytes*
BYTE_COUNT 6232 header byte count* * * * * * * * * * * * * * * * * * * * * * * * * * * * *
END_USGS_HEADER *
