BEGIN_USGS_DOQ_HEADER *
QUADRANGLE_NAME "FOLSOM" 3.45 or 7.5-min. name*
QUADRANT SW quadrant indicator if cell size = 3.75-minutes*
WEST_LONGITUDE -121 15 0.000 signed deg min sec SDDD MM SS.SSS*
EAST_LONGITUDE -121 11 15.000 signed deg min sec SDDD MM SS.SSS*
NORTH_LATITUDE 38 41 15.000 signed deg min sec SDDD MM SS.SSS*
SOUTH_LATITUDE 38 37 30.000 signed deg min sec SDDD MM SS.SSS*
PRODUCTION_DATE 2001 10 10 yyyy mm dd*
RASTER_ORDER LEFT_RIGHT/TOP_BOTTOM video display order*
BAND_ORGANIZATION "SINGLE FILE" single file or BSQ, or BIL or BIP*
BAND_CONTENT BLACK&WHITE black&white or red green blue*
BITS_PER_PIXEL 8 radiometric resolution*
SAMPLES_AND_LINES 6268 7657 number of columns and rows*
HORIZONTAL_DATUM NAD83 primary horizontal datum*
HORIZONTAL_COORDINATE_SYSTEM UTM *
COORDINATE_ZONE 10 coordinate system zone number*
HORIZONTAL_UNITS METERS coordinate system units*
HORIZONTAL_RESOLUTION 1.00 pixel horiz. ground sample distance*
SECONDARY_HORIZONTAL_DATUM NAD27 secondary horizontal datum*
XY_ORIGIN 651812.000 4283959.000 coord. of upper left pixel pri. datum*
SECONDARY_XY_ORIGIN 651908.000 4283765.000 coord upper left pixel sec datum*
NATION US nation code*
STATE CA state fip code*
NW_QUAD_CORNER_XY 652205.103 4283552.236 XY coords. of pri. NW quad corner*
NE_QUAD_CORNER_XY 657641.393 4283657.912 XY coords. of pri. NE quad corner*
SE_QUAD_CORNER_XY 657778.497 4276721.859 XY coords. of pri. SE quad corner*
SW_QUAD_CORNER_XY 652337.475 4276616.235 XY coords. of pri. SW quad corner*
SECONDARY_NW_QUAD_XY 652208.975 4283345.002 XY coords. - sec. NW quad cor.*
SECONDARY_NE_QUAD_XY 657645.403 4283450.681 XY coords. - sec. NE quad cor.*
SECONDARY_SE_QUAD_XY 657782.504 4276514.769 XY coords. - sec. SE quad cor.*
SECONDARY_SW_QUAD_XY 652341.344 4276409.142 XY coords. - sec. SW quad cor.*
RMSE_XY 2.80 doq horiz. accuracy*
IMAGE_SOURCE "BLACK AND WHITE FILM" b&w, cir, natural color, other*
SOURCE_IMAGE_ID "NAPP 10538 104" source image id*
SOURCE_IMAGE_DATE 1998 9 12 source image date as yyyy mm dd*
SOURCE_DEM_DATE 1952 1 1 source dem date yyyy mm dd*
AGENCY "WESTERN MAPPING CENTER (WMC)" oversight agency*
PRODUCER "WESTERN MAPPING CENTER (WMC)" *
PRODUCTION_SYSTEM "DV2.6.4 1/00 OV2.6 6/00" production system*
STANDARD_VERSION 1996 12 version of DOQ standard*
METADATA_DATE 2001 10 10 date created or changed, yyyy mm dd*
DATA_FILE_SIZE 48000344 data set size in bytes*
BYTE_COUNT 6268 header byte count* * * * * * * * * * * * * * * * * * * * * * * * * * * * * * * * * * * *
END_USGS_HEADER *
