BEGIN_USGS_DOQ_HEADER *
QUADRANGLE_NAME "ROCKLIN" 3.45 or 7.5-min. name*
QUADRANT SE quadrant indicator if cell size = 3.75-minutes*
WEST_LONGITUDE -121 11 15.000 signed deg min sec SDDD MM SS.SSS*
EAST_LONGITUDE -121 7 30.000 signed deg min sec SDDD MM SS.SSS*
NORTH_LATITUDE 38 48 45.000 signed deg min sec SDDD MM SS.SSS*
SOUTH_LATITUDE 38 45 0.000 signed deg min sec SDDD MM SS.SSS*
PRODUCTION_DATE 1997 8 7 yyyy mm dd*
RASTER_ORDER LEFT_RIGHT/TOP_BOTTOM video display order*
BAND_ORGANIZATION "SINGLE FILE" single file or BSQ, or BIL or BIP*
BAND_CONTENT BLACK&WHITE black&white or red green blue*
BITS_PER_PIXEL 8 radiometric resolution*
SAMPLES_AND_LINES 6264 7661 number of columns and rows*
HORIZONTAL_DATUM NAD83 primary horizontal datum*
HORIZONTAL_COORDINATE_SYSTEM UTM *
COORDINATE_ZONE 10 coordinate system zone number*
HORIZONTAL_UNITS METERS coordinate system units*
HORIZONTAL_RESOLUTION 1.00 pixel horiz. ground sample distance*
SECONDARY_HORIZONTAL_DATUM NAD27 secondary horizontal datum*
XY_ORIGIN 656973.000 4297940.000 coord. of upper left pixel pri. datum*
SECONDARY_XY_ORIGIN 657068.785 4297745.383 coord upper left pixel sec datum*
NATION US nation code*
STATE CA state fip code*
NW_QUAD_CORNER_XY 657366.622 4297530.219 XY coords. of pri. NW quad corner*
NE_QUAD_CORNER_XY 662793.470 4297639.713 XY coords. of pri. NE quad corner*
SE_QUAD_CORNER_XY 662935.695 4290703.473 XY coords. of pri. SE quad corner*
SW_QUAD_CORNER_XY 657504.102 4290594.032 XY coords. of pri. SW quad corner*
SECONDARY_NW_QUAD_XY 657370.637 4297322.709 XY coords. - sec. NW quad cor.*
SECONDARY_NE_QUAD_XY 662797.624 4297432.205 XY coords. - sec. NE quad cor.*
SECONDARY_SE_QUAD_XY 662939.845 4290496.104 XY coords. - sec. SE quad cor.*
SECONDARY_SW_QUAD_XY 657508.114 4290386.661 XY coords. - sec. SW quad cor.*
RMSE_XY 1.60 doq horiz. accuracy*
IMAGE_SOURCE "BLACK AND WHITE FILM" b&w, cir, natural color, other*
SOURCE_IMAGE_ID "NAPP 6351 127" source image id*
SOURCE_IMAGE_DATE 1993 5 22 source image date as yyyy mm dd*
SOURCE_DEM_DATE 1997 8 7 source dem date yyyy mm dd*
AGENCY "WESTERN MAPPING CENTER (WMC)" oversight agency*
PRODUCER "Science Applications International" producer/contractor*
PRODUCTION_SYSTEM "GIS/MAGIC" production system*
STANDARD_VERSION 1996 12 version of DOQ standard*
METADATA_DATE 1997 12 31 date created or changed, yyyy mm dd*
DATA_FILE_SIZE 47994768 data set size in bytes*
BYTE_COUNT 6264 header byte count* * * * * * * * * * * * * * * * * * * * * * * * * * * * * * * * * * * *
END_USGS_HEADER *
