BEGIN_USGS_DOQ_HEADER *
QUADRANGLE_NAME "PLEASANT GROVE" 3.45 or 7.5-min. name*
QUADRANT SW quadrant indicator if cell size = 3.75-minutes*
WEST_LONGITUDE -121 30 0.000 signed deg min sec SDDD MM SS.SSS*
EAST_LONGITUDE -121 26 15.000 signed deg min sec SDDD MM SS.SSS*
NORTH_LATITUDE 38 48 45.000 signed deg min sec SDDD MM SS.SSS*
SOUTH_LATITUDE 38 45 0.000 signed deg min sec SDDD MM SS.SSS*
PRODUCTION_DATE 1997 8 7 yyyy mm dd*
RASTER_ORDER LEFT_RIGHT/TOP_BOTTOM video display order*
BAND_ORGANIZATION "SINGLE FILE" single file or BSQ, or BIL or BIP*
BAND_CONTENT BLACK&WHITE black&white or red green blue*
BITS_PER_PIXEL 8 radiometric resolution*
SAMPLES_AND_LINES 6241 7642 number of columns and rows*
HORIZONTAL_DATUM NAD83 primary horizontal datum*
HORIZONTAL_COORDINATE_SYSTEM UTM *
COORDINATE_ZONE 10 coordinate system zone number*
HORIZONTAL_UNITS METERS coordinate system units*
HORIZONTAL_RESOLUTION 1.00 pixel horiz. ground sample distance*
SECONDARY_HORIZONTAL_DATUM NAD27 secondary horizontal datum*
XY_ORIGIN 629839.000 4297430.000 coord. of upper left pixel pri. datum*
SECONDARY_XY_ORIGIN 629934.866 4297235.155 coord upper left pixel sec datum*
NATION US nation code*
STATE CA state fip code*
NW_QUAD_CORNER_XY 630232.964 4297038.468 XY coords. of pri. NW quad corner*
NE_QUAD_CORNER_XY 635659.623 4297129.390 XY coords. of pri. NE quad corner*
SE_QUAD_CORNER_XY 635778.126 4290193.397 XY coords. of pri. SE quad corner*
SW_QUAD_CORNER_XY 630346.724 4290102.519 XY coords. of pri. SW quad corner*
SECONDARY_NW_QUAD_XY 630236.286 4296830.945 XY coords. - sec. NW quad cor.*
SECONDARY_NE_QUAD_XY 635663.084 4296921.869 XY coords. - sec. NE quad cor.*
SECONDARY_SE_QUAD_XY 635781.585 4289986.015 XY coords. - sec. SE quad cor.*
SECONDARY_SW_QUAD_XY 630350.044 4289895.135 XY coords. - sec. SW quad cor.*
RMSE_XY 0.80 doq horiz. accuracy*
IMAGE_SOURCE "BLACK AND WHITE FILM" b&w, cir, natural color, other*
SOURCE_IMAGE_ID "NAPP 6353 121" source image id*
SOURCE_IMAGE_DATE 1993 5 23 source image date as yyyy mm dd*
SOURCE_DEM_DATE 1997 8 7 source dem date yyyy mm dd*
AGENCY "WESTERN MAPPING CENTER (WMC)" oversight agency*
PRODUCER "Science Applications International" producer/contractor*
PRODUCTION_SYSTEM "GIS/MAGIC" production system*
STANDARD_VERSION 1996 12 version of DOQ standard*
METADATA_DATE 1997 12 31 date created or changed, yyyy mm dd*
DATA_FILE_SIZE 47699963 data set size in bytes*
BYTE_COUNT 6241 header byte count* * * * * * * * * * * * * * * * * * * * * * * * * * * * * * * * * * *
END_USGS_HEADER *
