BEGIN_USGS_DOQ_HEADER *
QUADRANGLE_NAME "ELDORADO BEND" 3.45 or 7.5-min. name*
QUADRANT NW quadrant indicator if cell size = 3.75-minutes*
WEST_LONGITUDE -121 52 30.000 signed deg min sec SDDD MM SS.SSS*
EAST_LONGITUDE -121 48 45.000 signed deg min sec SDDD MM SS.SSS*
NORTH_LATITUDE 38 52 30.000 signed deg min sec SDDD MM SS.SSS*
SOUTH_LATITUDE 38 48 45.000 signed deg min sec SDDD MM SS.SSS*
PRODUCTION_DATE 2001 2 6 yyyy mm dd*
RASTER_ORDER LEFT_RIGHT/TOP_BOTTOM video display order*
BAND_ORGANIZATION "SINGLE FILE" single file or BSQ, or BIL or BIP*
BAND_CONTENT BLACK&WHITE black&white or red green blue*
BITS_PER_PIXEL 8 radiometric resolution*
SAMPLES_AND_LINES 6208 7619 number of columns and rows*
HORIZONTAL_DATUM NAD83 primary horizontal datum*
HORIZONTAL_COORDINATE_SYSTEM UTM *
COORDINATE_ZONE 10 coordinate system zone number*
HORIZONTAL_UNITS METERS coordinate system units*
HORIZONTAL_RESOLUTION 1.00 pixel horiz. ground sample distance*
SECONDARY_HORIZONTAL_DATUM NAD27 secondary horizontal datum*
XY_ORIGIN 597194.000 4303876.000 coord. of upper left pixel pri. datum*
SECONDARY_XY_ORIGIN 597289.909 4303680.645 coord upper left pixel sec datum*
NATION US nation code*
STATE CA state fip code*
NW_QUAD_CORNER_XY 597588.240 4303506.698 XY coords. of pri. NW quad corner*
NE_QUAD_CORNER_XY 603009.971 4303575.378 XY coords. of pri. NE quad corner*
SE_QUAD_CORNER_XY 603100.144 4296639.550 XY coords. of pri. SE quad corner*
SW_QUAD_CORNER_XY 597673.665 4296570.904 XY coords. of pri. SW quad corner*
SECONDARY_NW_QUAD_XY 597590.733 4303299.025 XY coords. - sec. NW quad cor.*
SECONDARY_NE_QUAD_XY 603012.603 4303367.706 XY coords. - sec. NE quad cor.*
SECONDARY_SE_QUAD_XY 603102.774 4296432.017 XY coords. - sec. SE quad cor.*
SECONDARY_SW_QUAD_XY 597676.157 4296363.369 XY coords. - sec. SW quad cor.*
RMSE_XY 2.30 doq horiz. accuracy*
IMAGE_SOURCE "BLACK AND WHITE FILM" b&w, cir, natural color, other*
SOURCE_IMAGE_ID "NAPP 10526 206" source image id*
SOURCE_IMAGE_DATE 1998 8 22 source image date as yyyy mm dd*
SOURCE_DEM_DATE 1949 1 1 source dem date yyyy mm dd*
AGENCY "WESTERN MAPPING CENTER (WMC)" oversight agency*
PRODUCER "WESTERN MAPPING CENTER (WMC)" *
PRODUCTION_SYSTEM "DV2.6.4 1/00 OV2.6 6/00" production system*
STANDARD_VERSION 1996 12 version of DOQ standard*
METADATA_DATE 2001 2 6 date created or changed, yyyy mm dd*
DATA_FILE_SIZE 47304960 data set size in bytes*
BYTE_COUNT 6208 header byte count* * * * * * * * * * * * * * * * * * * * * * * * * * * * * * * * * * *
END_USGS_HEADER *
