BEGIN_USGS_DOQ_HEADER *
QUADRANGLE_NAME "SHERIDAN" 3.45 or 7.5-min. name*
QUADRANT SW quadrant indicator if cell size = 3.75-minutes*
WEST_LONGITUDE -121 30 0.000 signed deg min sec SDDD MM SS.SSS*
EAST_LONGITUDE -121 26 15.000 signed deg min sec SDDD MM SS.SSS*
NORTH_LATITUDE 38 56 15.000 signed deg min sec SDDD MM SS.SSS*
SOUTH_LATITUDE 38 52 30.000 signed deg min sec SDDD MM SS.SSS*
PRODUCTION_DATE 1997 8 7 yyyy mm dd*
RASTER_ORDER LEFT_RIGHT/TOP_BOTTOM video display order*
BAND_ORGANIZATION "SINGLE FILE" single file or BSQ, or BIL or BIP*
BAND_CONTENT BLACK&WHITE black&white or red green blue*
BITS_PER_PIXEL 8 radiometric resolution*
SAMPLES_AND_LINES 6231 7643 number of columns and rows*
HORIZONTAL_DATUM NAD83 primary horizontal datum*
HORIZONTAL_COORDINATE_SYSTEM UTM *
COORDINATE_ZONE 10 coordinate system zone number*
HORIZONTAL_UNITS METERS coordinate system units*
HORIZONTAL_RESOLUTION 1.00 pixel horiz. ground sample distance*
SECONDARY_HORIZONTAL_DATUM NAD27 secondary horizontal datum*
XY_ORIGIN 629611.000 4311302.000 coord. of upper left pixel pri. datum*
SECONDARY_XY_ORIGIN 629706.876 4311107.274 coord upper left pixel sec datum*
NATION US nation code*
STATE CA state fip code*
NW_QUAD_CORNER_XY 630004.977 4310910.574 XY coords. of pri. NW quad corner*
NE_QUAD_CORNER_XY 635422.130 4311001.583 XY coords. of pri. NE quad corner*
SE_QUAD_CORNER_XY 635540.957 4304065.452 XY coords. of pri. SE quad corner*
SW_QUAD_CORNER_XY 630119.048 4303974.486 XY coords. of pri. SW quad corner*
SECONDARY_NW_QUAD_XY 630008.304 4310702.775 XY coords. - sec. NW quad cor.*
SECONDARY_NE_QUAD_XY 635425.596 4310793.786 XY coords. - sec. NE quad cor.*
SECONDARY_SE_QUAD_XY 635544.421 4303857.793 XY coords. - sec. SE quad cor.*
SECONDARY_SW_QUAD_XY 630122.373 4303766.825 XY coords. - sec. SW quad cor.*
RMSE_XY 0.60 doq horiz. accuracy*
IMAGE_SOURCE "BLACK AND WHITE FILM" b&w, cir, natural color, other*
SOURCE_IMAGE_ID "NAPP 6353 117" source image id*
SOURCE_IMAGE_DATE 1993 5 23 source image date as yyyy mm dd*
SOURCE_DEM_DATE 1997 8 7 source dem date yyyy mm dd*
AGENCY "WESTERN MAPPING CENTER (WMC)" oversight agency*
PRODUCER "Science Applications International" producer/contractor*
PRODUCTION_SYSTEM "GIS/MAGIC" production system*
STANDARD_VERSION 1996 12 version of DOQ standard*
METADATA_DATE 1997 12 31 date created or changed, yyyy mm dd*
DATA_FILE_SIZE 47629764 data set size in bytes*
BYTE_COUNT 6231 header byte count* * * * * * * * * * * * * * * * * * * * * * * * * * * * * * * * * * *
END_USGS_HEADER *
