BEGIN_USGS_DOQ_HEADER *
QUADRANGLE_NAME "SUTTER CAUSEWAY" *
QUADRANT SW *
WEST_LONGITUDE -121 45 0.0 *
EAST_LONGITUDE -121 41 15.0 *
NORTH_LATITUDE 38 56 15.0 *
SOUTH_LATITUDE 38 52 30.0 *
PRODUCTION_DATE 2001 3 14 *
RASTER_ORDER LEFT_RIGHT/TOP_BOTTOM *
BAND_ORGANIZATION "SINGLE FILE" *
BAND_CONTENT BLACK&WHITE *
BITS_PER_PIXEL 8 *
SAMPLES_AND_LINES 6221 7631 *
HORIZONTAL_DATUM NAD83 *
HORIZONTAL_COORDINATE_SYSTEM UTM *
COORDINATE_ZONE 10 *
HORIZONTAL_UNITS METERS *
HORIZONTAL_RESOLUTION 1.0 *
SECONDARY_HORIZONTAL_DATUM NAD27 *
XY_ORIGIN 607940.000 4310960.000 *
SECONDARY_XY_ORIGIN 608036.015 4310764.965 *
NATION US *
STATE CA *
NW_QUAD_CORNER_XY 608336.677 4310583.703 *
NE_QUAD_CORNER_XY 613753.708 4310659.847 *
SE_QUAD_CORNER_XY 613853.513 4303723.878 *
SW_QUAD_CORNER_XY 608431.728 4303647.771 *
SECONDARY_NW_QUAD_XY 608339.450 4310375.896 *
SECONDARY_NE_QUAD_XY 613756.619 4310452.041 *
SECONDARY_SE_QUAD_XY 613856.422 4303516.210 *
SECONDARY_SW_QUAD_XY 608434.499 4303440.101 *
RMSE_XY 0.744 *
IMAGE_SOURCE "Black and White film" *
SOURCE_IMAGE_ID "NAPP 10526-20" *
SOURCE_IMAGE_DATE 1998 08 22 *
SOURCE_DEM_DATE 1973 00 00 *
AGENCY "WESTERN MAPPING CENTER (WMC)" *
PRODUCER "Hammon, Jensen, Wallen & Associates" *
PRODUCTION_SYSTEM "ORTHOVIEW" *
STANDARD_VERSION 1996 12 *
METADATA_DATE 2001 3 14 *
DATA_FILE_SIZE 47478672 *
BYTE_COUNT 6221 * * * * * * * * * * * * * * * * * * * * * * * * * * * * * * * * * * *
END_USGS_HEADER *
