BEGIN_USGS_DOQ_HEADER *
QUADRANGLE_NAME "MARE ISLAND" *
QUADRANT SE *
WEST_LONGITUDE -122 18 45.0 *
EAST_LONGITUDE -122 15 0.0 *
NORTH_LATITUDE 38 3 45.0 *
SOUTH_LATITUDE 38 0 0.0 *
PRODUCTION_DATE 1997 9 15 *
RASTER_ORDER LEFT_RIGHT/TOP_BOTTOM *
BAND_ORGANIZATION "SINGLE FILE" *
BAND_CONTENT BLACK&WHITE *
BITS_PER_PIXEL 8 *
SAMPLES_AND_LINES 6241 7601 *
HORIZONTAL_DATUM NAD83 *
HORIZONTAL_COORDINATE_SYSTEM UTM *
COORDINATE_ZONE 10 *
HORIZONTAL_UNITS METERS *
HORIZONTAL_RESOLUTION 1.0 *
SECONDARY_HORIZONTAL_DATUM NAD27 *
XY_ORIGIN 559910.000 4213320.000 *
SECONDARY_XY_ORIGIN 560006.388 4213123.671 *
NATION US *
STATE CA *
NW_QUAD_CORNER_XY 560309.750 4212972.645 *
NE_QUAD_CORNER_XY 565792.527 4213015.051 *
SE_QUAD_CORNER_XY 565848.456 4206080.365 *
SW_QUAD_CORNER_XY 560361.017 4206037.982 *
SECONDARY_NW_QUAD_XY 560311.260 4212766.825 *
SECONDARY_NE_QUAD_XY 565794.174 4212809.232 *
SECONDARY_SE_QUAD_XY 565850.102 4205874.695 *
SECONDARY_SW_QUAD_XY 560362.526 4205832.311 *
RMSE_XY 2.661 *
IMAGE_SOURCE "Black and White film" *
SOURCE_IMAGE_ID "NAPP 6359-116" *
SOURCE_IMAGE_DATE 1993 7 6 *
SOURCE_DEM_DATE 1983 7 3 *
AGENCY "WESTERN MAPPING CENTER (WMC)" *
PRODUCER "Hammon, Jensen, Wallen & Associates" *
PRODUCTION_SYSTEM "ORTHOVIEW" *
STANDARD_VERSION 1996 12 *
METADATA_DATE 1997 9 15 *
DATA_FILE_SIZE 47444082 *
BYTE_COUNT 6241 * * * * * * * * * * * * * * * * * * * * * * * * * * * * * * * * * * *
END_USGS_HEADER *
