BEGIN_USGS_DOQ_HEADER *
QUADRANGLE_NAME "PETALUMA POINT" *
QUADRANT SW *
WEST_LONGITUDE -122 30 0.0 *
EAST_LONGITUDE -122 26 15.0 *
NORTH_LATITUDE 38 3 45.0 *
SOUTH_LATITUDE 38 0 0.0 *
PRODUCTION_DATE 1997 9 15 *
RASTER_ORDER LEFT_RIGHT/TOP_BOTTOM *
BAND_ORGANIZATION "SINGLE FILE" *
BAND_CONTENT BLACK&WHITE *
BITS_PER_PIXEL 8 *
SAMPLES_AND_LINES 6231 7581 *
HORIZONTAL_DATUM NAD83 *
HORIZONTAL_COORDINATE_SYSTEM UTM *
COORDINATE_ZONE 10 *
HORIZONTAL_UNITS METERS *
HORIZONTAL_RESOLUTION 1.0 *
SECONDARY_HORIZONTAL_DATUM NAD27 *
XY_ORIGIN 543460.000 4213200.000 *
SECONDARY_XY_ORIGIN 543556.491 4213003.475 *
NATION US *
STATE CA *
NW_QUAD_CORNER_XY 543861.516 4212867.554 *
NE_QUAD_CORNER_XY 549344.246 4212898.897 *
SE_QUAD_CORNER_XY 549386.191 4205964.274 *
SW_QUAD_CORNER_XY 543898.800 4205932.948 *
SECONDARY_NW_QUAD_XY 543862.614 4212661.732 *
SECONDARY_NE_QUAD_XY 549345.481 4212693.075 *
SECONDARY_SE_QUAD_XY 549387.425 4205758.601 *
SECONDARY_SW_QUAD_XY 543899.897 4205727.275 *
RMSE_XY 2.297 *
IMAGE_SOURCE "Black and White film" *
SOURCE_IMAGE_ID "NAPP 6361-16" *
SOURCE_IMAGE_DATE 1993 7 10 *
SOURCE_DEM_DATE 1983 7 3 *
AGENCY "WESTERN MAPPING CENTER (WMC)" *
PRODUCER "Hammon, Jensen, Wallen & Associates" *
PRODUCTION_SYSTEM "ORTHOVIEW" *
STANDARD_VERSION 1996 12 *
METADATA_DATE 1997 9 15 *
DATA_FILE_SIZE 47243442 *
BYTE_COUNT 6231 * * * * * * * * * * * * * * * * * * * * * * * * * * * * * * * * * * *
END_USGS_HEADER *
