BEGIN_USGS_DOQ_HEADER *
QUADRANGLE_NAME "SAN GERONIMO" 3.45 or 7.5-min. name*
QUADRANT NE quadrant indicator if cell size = 3.75-minutes*
WEST_LONGITUDE -122 41 15.000 signed deg min sec SDDD MM SS.SSS*
EAST_LONGITUDE -122 37 30.000 signed deg min sec SDDD MM SS.SSS*
NORTH_LATITUDE 38 7 30.000 signed deg min sec SDDD MM SS.SSS*
SOUTH_LATITUDE 38 3 45.000 signed deg min sec SDDD MM SS.SSS*
PRODUCTION_DATE 1996 7 31 yyyy mm dd*
RASTER_ORDER LEFT_RIGHT/TOP_BOTTOM video display order*
BAND_ORGANIZATION "SINGLE FILE" single file or BSQ, or BIL or BIP*
BAND_CONTENT BLACK&WHITE black&white or red green blue*
BITS_PER_PIXEL 8 radiometric resolution*
SAMPLES_AND_LINES 6204 7567 number of columns and rows*
HORIZONTAL_DATUM NAD83 primary horizontal datum*
HORIZONTAL_COORDINATE_SYSTEM UTM *
COORDINATE_ZONE 10 coordinate system zone number*
HORIZONTAL_UNITS METERS coordinate system units*
HORIZONTAL_RESOLUTION 1.00 pixel horiz. ground sample distance*
SECONDARY_HORIZONTAL_DATUM NAD27 secondary horizontal datum*
XY_ORIGIN 526993.000 4220052.000 coord. of upper left pixel pri. datum*
SECONDARY_XY_ORIGIN 527089.000 4219855.000 coord upper left pixel sec datum*
NATION US nation code*
STATE CA state fip code*
NW_QUAD_CORNER_XY 527390.061 4219730.293 XY coords. of pri. NW quad corner*
NE_QUAD_CORNER_XY 532868.091 4219750.584 XY coords. of pri. NE quad corner*
SE_QUAD_CORNER_XY 532896.093 4212815.932 XY coords. of pri. SE quad corner*
SW_QUAD_CORNER_XY 527413.396 4212795.652 XY coords. of pri. SW quad corner*
SECONDARY_NW_QUAD_XY 527390.748 4219524.320 XY coords. - sec. NW quad cor.*
SECONDARY_NE_QUAD_XY 532868.915 4219544.612 XY coords. - sec. NE quad cor.*
SECONDARY_SE_QUAD_XY 532896.916 4212610.108 XY coords. - sec. SE quad cor.*
SECONDARY_SW_QUAD_XY 527414.082 4212589.828 XY coords. - sec. SW quad cor.*
RMSE_XY 3.50 doq horiz. accuracy*
IMAGE_SOURCE "BLACK AND WHITE FILM" b&w, cir, natural color, other*
SOURCE_IMAGE_ID "NAPP 6364 021" source image id*
SOURCE_IMAGE_DATE 1993 7 13 source image date as yyyy mm dd*
SOURCE_DEM_DATE 1996 7 31 source dem date yyyy mm dd*
AGENCY "WESTERN MAPPING CENTER (WMC)" oversight agency*
PRODUCER "WMC" producer/contractor*
PRODUCTION_SYSTEM "DV2.6.3 10/9OV2.4 5/95" production system*
STANDARD_VERSION 1996 12 version of DOQ standard*
METADATA_DATE 1997 7 1 date created or changed, yyyy mm dd*
DATA_FILE_SIZE 46951872 data set size in bytes*
BYTE_COUNT 6204 header byte count* * * * * * * * * * * * * * * * * * * * * * * * * * * * * * * * * * *
END_USGS_HEADER *
