BEGIN_USGS_DOQ_HEADER *
QUADRANGLE_NAME "SEARS POINT" *
QUADRANT SW *
WEST_LONGITUDE -122 30 0.0 *
EAST_LONGITUDE -122 26 15.0 *
NORTH_LATITUDE 38 11 15.0 *
SOUTH_LATITUDE 38 7 30.0 *
PRODUCTION_DATE 1997 9 15 *
RASTER_ORDER LEFT_RIGHT/TOP_BOTTOM *
BAND_ORGANIZATION "SINGLE FILE" *
BAND_CONTENT BLACK&WHITE *
BITS_PER_PIXEL 8 *
SAMPLES_AND_LINES 6221 7581 *
HORIZONTAL_DATUM NAD83 *
HORIZONTAL_COORDINATE_SYSTEM UTM *
COORDINATE_ZONE 10 *
HORIZONTAL_UNITS METERS *
HORIZONTAL_RESOLUTION 1.0 *
SECONDARY_HORIZONTAL_DATUM NAD27 *
XY_ORIGIN 543390.000 4227070.000 *
SECONDARY_XY_ORIGIN 543486.626 4226873.560 *
NATION US *
STATE CA *
NW_QUAD_CORNER_XY 543786.790 4226736.987 *
NE_QUAD_CORNER_XY 549260.179 4226768.363 *
SE_QUAD_CORNER_XY 549302.242 4219833.593 *
SW_QUAD_CORNER_XY 543824.179 4219802.234 *
SECONDARY_NW_QUAD_XY 543787.890 4226530.869 *
SECONDARY_NE_QUAD_XY 549261.416 4226562.246 *
SECONDARY_SE_QUAD_XY 549303.478 4219627.623 *
SECONDARY_SW_QUAD_XY 543825.278 4219596.263 *
RMSE_XY 1.864 *
IMAGE_SOURCE "Black and White film" *
SOURCE_IMAGE_ID "NAPP 6361-12" *
SOURCE_IMAGE_DATE 1993 7 10 *
SOURCE_DEM_DATE 1983 7 3 *
AGENCY "WESTERN MAPPING CENTER (WMC)" *
PRODUCER "Hammon, Jensen, Wallen & Associates" *
PRODUCTION_SYSTEM "ORTHOVIEW" *
STANDARD_VERSION 1996 12 *
METADATA_DATE 1997 9 15 *
DATA_FILE_SIZE 47167622 *
BYTE_COUNT 6221 * * * * * * * * * * * * * * * * * * * * * * * * * * * * * * * * * * *
END_USGS_HEADER *
