BEGIN_USGS_DOQ_HEADER *
QUADRANGLE_NAME "FAIRFIELD NORTH" 3.45 or 7.5-min. name*
QUADRANT NE quadrant indicator if cell size = 3.75-minutes*
WEST_LONGITUDE -122 3 45.000 signed deg min sec SDDD MM SS.SSS*
EAST_LONGITUDE -122 0 0.000 signed deg min sec SDDD MM SS.SSS*
NORTH_LATITUDE 38 22 30.000 signed deg min sec SDDD MM SS.SSS*
SOUTH_LATITUDE 38 18 45.000 signed deg min sec SDDD MM SS.SSS*
PRODUCTION_DATE 1998 8 6 yyyy mm dd*
RASTER_ORDER LEFT_RIGHT/TOP_BOTTOM video display order*
BAND_ORGANIZATION "SINGLE FILE" single file or BSQ, or BIL or BIP*
BAND_CONTENT BLACK&WHITE black&white or red green blue*
BITS_PER_PIXEL 8 radiometric resolution*
SAMPLES_AND_LINES 6232 7606 number of columns and rows*
HORIZONTAL_DATUM NAD83 primary horizontal datum*
HORIZONTAL_COORDINATE_SYSTEM UTM *
COORDINATE_ZONE 10 coordinate system zone number*
HORIZONTAL_UNITS METERS coordinate system units*
HORIZONTAL_RESOLUTION 1.00 pixel horiz. ground sample distance*
SECONDARY_HORIZONTAL_DATUM NAD27 secondary horizontal datum*
XY_ORIGIN 581494.000 4248197.000 coord. of upper left pixel pri. datum*
SECONDARY_XY_ORIGIN 581590.308 4248001.320 coord upper left pixel sec datum*
NATION US nation code*
STATE CA state fip code*
NW_QUAD_CORNER_XY 581889.937 4247839.317 XY coords. of pri. NW quad corner*
NE_QUAD_CORNER_XY 587349.391 4247896.627 XY coords. of pri. NE quad corner*
SE_QUAD_CORNER_XY 587424.490 4240961.470 XY coords. of pri. SE quad corner*
SW_QUAD_CORNER_XY 581960.342 4240904.189 XY coords. of pri. SW quad corner*
SECONDARY_NW_QUAD_XY 581892.004 4247632.769 XY coords. - sec. NW quad cor.*
SECONDARY_NE_QUAD_XY 587351.595 4247690.081 XY coords. - sec. NE quad cor.*
SECONDARY_SE_QUAD_XY 587426.693 4240755.068 XY coords. - sec. SE quad cor.*
SECONDARY_SW_QUAD_XY 581962.406 4240697.786 XY coords. - sec. SW quad cor.*
RMSE_XY 2.80 doq horiz. accuracy*
IMAGE_SOURCE "BLACK AND WHITE FILM" b&w, cir, natural color, other*
SOURCE_IMAGE_ID "NAPP 6358 033" source image id*
SOURCE_IMAGE_DATE 1993 06 16 source image date as yyyy mm dd*
IMAGE_SOURCE "BLACK AND WHITE FILM" b&w, cir, natural color, other*
SOURCE_IMAGE_ID "NAPP 6358 031" source image id*
SOURCE_IMAGE_DATE 1993 06 16 source image date as yyyy mm dd*
SOURCE_DEM_DATE 1980 00 00 source dem date yyyy mm dd*
AGENCY "WESTERN MAPPING CENTER (WMC)" oversight agency*
PRODUCER "SCIENCE APPLICATIONS INTERNATIONAL" producer/contractor*
PRODUCTION_SYSTEM "GIS/MAGIC" production system*
STANDARD_VERSION 1996 12 version of DOQ standard*
METADATA_DATE 1998 08 21 date created or changed, yyyy mm dd*
DATA_FILE_SIZE 47406824 data set size in bytes*
BYTE_COUNT 6232 header byte count* * * * * * * * * * * * * * * * * * * * * * * * * * * * * * * *
END_USGS_HEADER *
