BEGIN_USGS_DOQ_HEADER *
QUADRANGLE_NAME "NAPA" *
QUADRANT SE *
WEST_LONGITUDE -122 18 45.0 *
EAST_LONGITUDE -122 15 0.0 *
NORTH_LATITUDE 38 18 45.0 *
SOUTH_LATITUDE 38 15 0.0 *
PRODUCTION_DATE 1997 9 15 *
RASTER_ORDER LEFT_RIGHT/TOP_BOTTOM *
BAND_ORGANIZATION "SINGLE FILE" *
BAND_CONTENT BLACK&WHITE *
BITS_PER_PIXEL 8 *
SAMPLES_AND_LINES 6231 7601 *
HORIZONTAL_DATUM NAD83 *
HORIZONTAL_COORDINATE_SYSTEM UTM *
COORDINATE_ZONE 10 *
HORIZONTAL_UNITS METERS *
HORIZONTAL_RESOLUTION 1.0 *
SECONDARY_HORIZONTAL_DATUM NAD27 *
XY_ORIGIN 559700.000 4241060.000 *
SECONDARY_XY_ORIGIN 559796.393 4240863.837 *
NATION US *
STATE CA *
NW_QUAD_CORNER_XY 560103.961 4240712.028 *
NE_QUAD_CORNER_XY 565568.027 4240754.524 *
SE_QUAD_CORNER_XY 565624.270 4233819.547 *
SW_QUAD_CORNER_XY 560155.516 4233777.073 *
SECONDARY_NW_QUAD_XY 560105.475 4240505.620 *
SECONDARY_NE_QUAD_XY 565569.679 4240548.117 *
SECONDARY_SE_QUAD_XY 565625.920 4233613.285 *
SECONDARY_SW_QUAD_XY 560157.029 4233570.810 *
RMSE_XY 0.884 *
IMAGE_SOURCE "Black and White film" *
SOURCE_IMAGE_ID "NAPP 6359-124" *
SOURCE_IMAGE_DATE 1993 7 6 *
SOURCE_DEM_DATE 1980 1 1 *
AGENCY "WESTERN MAPPING CENTER (WMC)" *
PRODUCER "Hammon, Jensen, Wallen & Associates" *
PRODUCTION_SYSTEM "ORTHOVIEW" *
STANDARD_VERSION 1996 12 *
METADATA_DATE 1997 9 15 *
DATA_FILE_SIZE 47368062 *
BYTE_COUNT 6231 * * * * * * * * * * * * * * * * * * * * * * * * * * * * * * * * * * *
END_USGS_HEADER *
