BEGIN_USGS_DOQ_HEADER *
QUADRANGLE_NAME "GLEN ELLEN" *
QUADRANT NE *
WEST_LONGITUDE -122 33 45.0 *
EAST_LONGITUDE -122 30 0.0 *
NORTH_LATITUDE 38 22 30.0 *
SOUTH_LATITUDE 38 18 45.0 *
PRODUCTION_DATE 1997 9 15 *
RASTER_ORDER LEFT_RIGHT/TOP_BOTTOM *
BAND_ORGANIZATION "SINGLE FILE" *
BAND_CONTENT BLACK&WHITE *
BITS_PER_PIXEL 8 *
SAMPLES_AND_LINES 6211 7591 *
HORIZONTAL_DATUM NAD83 *
HORIZONTAL_COORDINATE_SYSTEM UTM *
COORDINATE_ZONE 10 *
HORIZONTAL_UNITS METERS *
HORIZONTAL_RESOLUTION 1.0 *
SECONDARY_HORIZONTAL_DATUM NAD27 *
XY_ORIGIN 537810.000 4247850.000 *
SECONDARY_XY_ORIGIN 537906.492 4247653.578 *
NATION US *
STATE CA *
NW_QUAD_CORNER_XY 538214.995 4247513.958 *
NE_QUAD_CORNER_XY 543674.310 4247541.686 *
SE_QUAD_CORNER_XY 543711.856 4240606.713 *
SW_QUAD_CORNER_XY 538247.847 4240578.999 *
SECONDARY_NW_QUAD_XY 538215.959 4247307.402 *
SECONDARY_NE_QUAD_XY 543675.412 4247335.131 *
SECONDARY_SE_QUAD_XY 543712.957 4240400.302 *
SECONDARY_SW_QUAD_XY 538248.811 4240372.588 *
RMSE_XY 1.973 *
IMAGE_SOURCE "Black and White film" *
SOURCE_IMAGE_ID "NAPP 6361-134" *
SOURCE_IMAGE_DATE 1993 7 10 *
SOURCE_DEM_DATE 1952 0 1 *
AGENCY "WESTERN MAPPING CENTER (WMC)" *
PRODUCER "Hammon, Jensen, Wallen & Associates" *
PRODUCTION_SYSTEM "ORTHOVIEW" *
STANDARD_VERSION 1996 12 *
METADATA_DATE 1997 9 15 *
DATA_FILE_SIZE 47153912 *
BYTE_COUNT 6211 * * * * * * * * * * * * * * * * * * * * * * * * * * * * * * * * * * *
END_USGS_HEADER *
