BEGIN_USGS_DOQ_HEADER *
QUADRANGLE_NAME "GLEN ELLEN" *
QUADRANT SE *
WEST_LONGITUDE -122 33 45.0 *
EAST_LONGITUDE -122 30 0.0 *
NORTH_LATITUDE 38 18 45.0 *
SOUTH_LATITUDE 38 15 0.0 *
PRODUCTION_DATE 1997 9 15 *
RASTER_ORDER LEFT_RIGHT/TOP_BOTTOM *
BAND_ORGANIZATION "SINGLE FILE" *
BAND_CONTENT BLACK&WHITE *
BITS_PER_PIXEL 8 *
SAMPLES_AND_LINES 6201 7581 *
HORIZONTAL_DATUM NAD83 *
HORIZONTAL_COORDINATE_SYSTEM UTM *
COORDINATE_ZONE 10 *
HORIZONTAL_UNITS METERS *
HORIZONTAL_RESOLUTION 1.0 *
SECONDARY_HORIZONTAL_DATUM NAD27 *
XY_ORIGIN 537850.000 4240910.000 *
SECONDARY_XY_ORIGIN 537946.604 4240713.536 *
NATION US *
STATE CA *
NW_QUAD_CORNER_XY 538247.847 4240578.999 *
NE_QUAD_CORNER_XY 543711.856 4240606.713 *
SE_QUAD_CORNER_XY 543749.349 4233671.813 *
SW_QUAD_CORNER_XY 538280.654 4233644.114 *
SECONDARY_NW_QUAD_XY 538248.811 4240372.588 *
SECONDARY_NE_QUAD_XY 543712.957 4240400.302 *
SECONDARY_SE_QUAD_XY 543750.450 4233465.548 *
SECONDARY_SW_QUAD_XY 538281.617 4233437.848 *
RMSE_XY 1.279 *
IMAGE_SOURCE "Black and White film" *
SOURCE_IMAGE_ID "NAPP 6361-136" *
SOURCE_IMAGE_DATE 1993 7 10 *
SOURCE_DEM_DATE 1952 0 1 *
AGENCY "WESTERN MAPPING CENTER (WMC)" *
PRODUCER "Hammon, Jensen, Wallen & Associates" *
PRODUCTION_SYSTEM "ORTHOVIEW" *
STANDARD_VERSION 1996 12 *
METADATA_DATE 1997 9 15 *
DATA_FILE_SIZE 47015982 *
BYTE_COUNT 6201 * * * * * * * * * * * * * * * * * * * * * * * * * * * * * * * * * * *
END_USGS_HEADER *
