BEGIN_USGS_DOQ_HEADER *
QUADRANGLE_NAME "TWO ROCK" *
QUADRANT NW *
WEST_LONGITUDE -122 52 30.0 *
EAST_LONGITUDE -122 48 45.0 *
NORTH_LATITUDE 38 22 30.0 *
SOUTH_LATITUDE 38 18 45.0 *
PRODUCTION_DATE 1997 9 15 *
RASTER_ORDER LEFT_RIGHT/TOP_BOTTOM *
BAND_ORGANIZATION "SINGLE FILE" *
BAND_CONTENT BLACK&WHITE *
BITS_PER_PIXEL 8 *
SAMPLES_AND_LINES 6181 7571 *
HORIZONTAL_DATUM NAD83 *
HORIZONTAL_COORDINATE_SYSTEM UTM *
COORDINATE_ZONE 10 *
HORIZONTAL_UNITS METERS *
HORIZONTAL_RESOLUTION 1.0 *
SECONDARY_HORIZONTAL_DATUM NAD27 *
XY_ORIGIN 510520.000 4247750.000 *
SECONDARY_XY_ORIGIN 510616.814 4247553.019 *
NATION US *
STATE CA *
NW_QUAD_CORNER_XY 510918.547 4247430.775 *
NE_QUAD_CORNER_XY 516377.825 4247440.017 *
SE_QUAD_CORNER_XY 516391.904 4240505.097 *
SW_QUAD_CORNER_XY 510927.934 4240495.859 *
SECONDARY_NW_QUAD_XY 510918.823 4247224.216 *
SECONDARY_NE_QUAD_XY 516378.238 4247233.459 *
SECONDARY_SE_QUAD_XY 516392.317 4240298.684 *
SECONDARY_SW_QUAD_XY 510928.209 4240289.446 *
RMSE_XY 2.667 *
IMAGE_SOURCE "Black and White film" *
SOURCE_IMAGE_ID "NAPP 6364-150" *
SOURCE_IMAGE_DATE 1993 7 13 *
SOURCE_DEM_DATE 1983 7 1 *
AGENCY "WESTERN MAPPING CENTER (WMC)" *
PRODUCER "Hammon, Jensen, Wallen & Associates" *
PRODUCTION_SYSTEM "ORTHOVIEW" *
STANDARD_VERSION 1996 12 *
METADATA_DATE 1997 9 15 *
DATA_FILE_SIZE 46802532 *
BYTE_COUNT 6181 * * * * * * * * * * * * * * * * * * * * * * * * * * * * * * * * * * *
END_USGS_HEADER *
