BEGIN_USGS_DOQ_HEADER *
QUADRANGLE_NAME "TWO ROCK" *
QUADRANT SW *
WEST_LONGITUDE -122 52 30.0 *
EAST_LONGITUDE -122 48 45.0 *
NORTH_LATITUDE 38 18 45.0 *
SOUTH_LATITUDE 38 15 0.0 *
PRODUCTION_DATE 1997 9 15 *
RASTER_ORDER LEFT_RIGHT/TOP_BOTTOM *
BAND_ORGANIZATION "SINGLE FILE" *
BAND_CONTENT BLACK&WHITE *
BITS_PER_PIXEL 8 *
SAMPLES_AND_LINES 6181 7561 *
HORIZONTAL_DATUM NAD83 *
HORIZONTAL_COORDINATE_SYSTEM UTM *
COORDINATE_ZONE 10 *
HORIZONTAL_UNITS METERS *
HORIZONTAL_RESOLUTION 1.0 *
SECONDARY_HORIZONTAL_DATUM NAD27 *
XY_ORIGIN 510530.000 4240810.000 *
SECONDARY_XY_ORIGIN 510626.930 4240612.998 *
NATION US *
STATE CA *
NW_QUAD_CORNER_XY 510927.934 4240495.859 *
NE_QUAD_CORNER_XY 516391.904 4240505.097 *
SE_QUAD_CORNER_XY 516405.964 4233570.250 *
SW_QUAD_CORNER_XY 510937.307 4233561.017 *
SECONDARY_NW_QUAD_XY 510928.209 4240289.446 *
SECONDARY_NE_QUAD_XY 516392.317 4240298.684 *
SECONDARY_SE_QUAD_XY 516406.376 4233363.983 *
SECONDARY_SW_QUAD_XY 510937.582 4233354.750 *
RMSE_XY 1.414 *
IMAGE_SOURCE "Black and White film" *
SOURCE_IMAGE_ID "NAPP 6364-152" *
SOURCE_IMAGE_DATE 1993 7 13 *
SOURCE_DEM_DATE 1983 7 1 *
AGENCY "WESTERN MAPPING CENTER (WMC)" *
PRODUCER "Hammon, Jensen, Wallen & Associates" *
PRODUCTION_SYSTEM "ORTHOVIEW" *
STANDARD_VERSION 1996 12 *
METADATA_DATE 1997 9 15 *
DATA_FILE_SIZE 46740722 *
BYTE_COUNT 6181 * * * * * * * * * * * * * * * * * * * * * * * * * * * * * * * * * * *
END_USGS_HEADER *
