BEGIN_USGS_DOQ_HEADER *
QUADRANGLE_NAME "SEBASTOPOL" *
QUADRANT SE *
WEST_LONGITUDE -122 48 45.0 *
EAST_LONGITUDE -122 45 0.0 *
NORTH_LATITUDE 38 26 15.0 *
SOUTH_LATITUDE 38 22 30.0 *
PRODUCTION_DATE 1997 9 16 *
RASTER_ORDER LEFT_RIGHT/TOP_BOTTOM *
BAND_ORGANIZATION "SINGLE FILE" *
BAND_CONTENT BLACK&WHITE *
BITS_PER_PIXEL 8 *
SAMPLES_AND_LINES 6181 7561 *
HORIZONTAL_DATUM NAD83 *
HORIZONTAL_COORDINATE_SYSTEM UTM *
COORDINATE_ZONE 10 *
HORIZONTAL_UNITS METERS *
HORIZONTAL_RESOLUTION 1.0 *
SECONDARY_HORIZONTAL_DATUM NAD27 *
XY_ORIGIN 515960.000 4254690.000 *
SECONDARY_XY_ORIGIN 516056.578 4254493.169 *
NATION US *
STATE CA *
NW_QUAD_CORNER_XY 516363.726 4254375.012 *
NE_QUAD_CORNER_XY 521818.308 4254387.958 *
SE_QUAD_CORNER_XY 521837.107 4247452.957 *
SW_QUAD_CORNER_XY 516377.825 4247440.017 *
SECONDARY_NW_QUAD_XY 516364.140 4254168.309 *
SECONDARY_NE_QUAD_XY 521818.860 4254181.256 *
SECONDARY_SE_QUAD_XY 521837.658 4247246.399 *
SECONDARY_SW_QUAD_XY 516378.238 4247233.459 *
RMSE_XY 2.292 *
IMAGE_SOURCE "Black and White film" *
SOURCE_IMAGE_ID "NAPP 6361-218" *
SOURCE_IMAGE_DATE 1993 7 11 *
SOURCE_DEM_DATE 1983 7 1 *
AGENCY "WESTERN MAPPING CENTER (WMC)" *
PRODUCER "Hammon, Jensen, Wallen & Associates" *
PRODUCTION_SYSTEM "ORTHOVIEW" *
STANDARD_VERSION 1996 12 *
METADATA_DATE 1997 9 16 *
DATA_FILE_SIZE 46740722 *
BYTE_COUNT 6181 * * * * * * * * * * * * * * * * * * * * * * * * * * * * * * * * * * *
END_USGS_HEADER *
