BEGIN_USGS_DOQ_HEADER *
QUADRANGLE_NAME "CALISTOGA" 3.45 or 7.5-min. name*
QUADRANT NE quadrant indicator if cell size = 3.75-minutes*
WEST_LONGITUDE -122 33 45.000 signed deg min sec SDDD MM SS.SSS*
EAST_LONGITUDE -122 30 0.000 signed deg min sec SDDD MM SS.SSS*
NORTH_LATITUDE 38 37 30.000 signed deg min sec SDDD MM SS.SSS*
SOUTH_LATITUDE 38 33 45.000 signed deg min sec SDDD MM SS.SSS*
PRODUCTION_DATE 1998 8 5 yyyy mm dd*
RASTER_ORDER LEFT_RIGHT/TOP_BOTTOM video display order*
BAND_ORGANIZATION "SINGLE FILE" single file or BSQ, or BIL or BIP*
BAND_CONTENT BLACK&WHITE black&white or red green blue*
BITS_PER_PIXEL 8 radiometric resolution*
SAMPLES_AND_LINES 6177 7577 number of columns and rows*
HORIZONTAL_DATUM NAD83 primary horizontal datum*
HORIZONTAL_COORDINATE_SYSTEM UTM *
COORDINATE_ZONE 10 coordinate system zone number*
HORIZONTAL_UNITS METERS coordinate system units*
HORIZONTAL_RESOLUTION 1.00 pixel horiz. ground sample distance*
SECONDARY_HORIZONTAL_DATUM NAD27 secondary horizontal datum*
XY_ORIGIN 537686.000 4275583.000 coord. of upper left pixel pri. datum*
SECONDARY_XY_ORIGIN 537782.128 4275386.704 coord upper left pixel sec datum*
NATION US nation code*
STATE CA state fip code*
NW_QUAD_CORNER_XY 538083.130 4275254.531 XY coords. of pri. NW quad corner*
NE_QUAD_CORNER_XY 543523.606 4275282.316 XY coords. of pri. NE quad corner*
SE_QUAD_CORNER_XY 543561.360 4268347.048 XY coords. of pri. SE quad corner*
SW_QUAD_CORNER_XY 538116.165 4268319.277 XY coords. of pri. SW quad corner*
SECONDARY_NW_QUAD_XY 538084.097 4275047.403 XY coords. - sec. NW quad cor.*
SECONDARY_NE_QUAD_XY 543524.712 4275075.188 XY coords. - sec. NE quad cor.*
SECONDARY_SE_QUAD_XY 543562.465 4268140.062 XY coords. - sec. SE quad cor.*
SECONDARY_SW_QUAD_XY 538117.131 4268112.291 XY coords. - sec. SW quad cor.*
RMSE_XY 2.90 doq horiz. accuracy*
IMAGE_SOURCE "BLACK AND WHITE FILM" b&w, cir, natural color, other*
SOURCE_IMAGE_ID "NAPP 6361 126" source image id*
SOURCE_IMAGE_DATE 1993 07 10 source image date as yyyy mm dd*
IMAGE_SOURCE "BLACK AND WHITE FILM" b&w, cir, natural color, other*
SOURCE_IMAGE_ID "NAPP 6361 112" source image id*
SOURCE_IMAGE_DATE 1993 07 10 source image date as yyyy mm dd*
IMAGE_SOURCE "BLACK AND WHITE FILM" b&w, cir, natural color, other*
SOURCE_IMAGE_ID "NAPP 6361 125" source image id*
SOURCE_IMAGE_DATE 1993 07 10 source image date as yyyy mm dd*
IMAGE_SOURCE "BLACK AND WHITE FILM" b&w, cir, natural color, other*
SOURCE_IMAGE_ID "NAPP 6360 142" source image id*
SOURCE_IMAGE_DATE 1993 07 10 source image date as yyyy mm dd*
IMAGE_SOURCE "BLACK AND WHITE FILM" b&w, cir, natural color, other*
SOURCE_IMAGE_ID "NAPP 6360 141" source image id*
SOURCE_IMAGE_DATE 1993 07 10 source image date as yyyy mm dd*
SOURCE_DEM_DATE 1993 00 00 source dem date yyyy mm dd*
AGENCY "WESTERN MAPPING CENTER (WMC)" oversight agency*
PRODUCER "SCIENCE APPLICATIONS INTERNATIONAL" producer/contractor*
PRODUCTION_SYSTEM "GIS/MAGIC" production system*
STANDARD_VERSION 1996 12 version of DOQ standard*
METADATA_DATE 1998 08 21 date created or changed, yyyy mm dd*
DATA_FILE_SIZE 46809306 data set size in bytes*
BYTE_COUNT 6177 header byte count* * * * * * * * * * * * * * * * * * * * * * *
END_USGS_HEADER *
