BEGIN_USGS_DOQ_HEADER *
QUADRANGLE_NAME "JIMTOWN" *
QUADRANT NE *
WEST_LONGITUDE -122 48 45.0 *
EAST_LONGITUDE -122 45 0.0 *
NORTH_LATITUDE 38 45 0.0 *
SOUTH_LATITUDE 38 41 15.0 *
PRODUCTION_DATE 1997 11 4 *
RASTER_ORDER LEFT_RIGHT/TOP_BOTTOM *
BAND_ORGANIZATION "SINGLE FILE" *
BAND_CONTENT BLACK&WHITE *
BITS_PER_PIXEL 8 *
SAMPLES_AND_LINES 6161 7571 *
HORIZONTAL_DATUM NAD83 *
HORIZONTAL_COORDINATE_SYSTEM UTM *
COORDINATE_ZONE 10 *
HORIZONTAL_UNITS METERS *
HORIZONTAL_RESOLUTION 1.0 *
SECONDARY_HORIZONTAL_DATUM NAD27 *
XY_ORIGIN 515890.000 4289370.000 *
SECONDARY_XY_ORIGIN 515986.387 4289173.026 *
NATION US *
STATE CA *
NW_QUAD_CORNER_XY 516292.940 4289051.097 *
NE_QUAD_CORNER_XY 521723.926 4289064.075 *
SE_QUAD_CORNER_XY 521742.854 4282128.704 *
SW_QUAD_CORNER_XY 516307.136 4282115.731 *
SECONDARY_NW_QUAD_XY 516293.355 4288843.686 *
SECONDARY_NE_QUAD_XY 521724.479 4288856.665 *
SECONDARY_SE_QUAD_XY 521743.407 4281921.433 *
SECONDARY_SW_QUAD_XY 516307.551 4281908.461 *
RMSE_XY 2.072 *
IMAGE_SOURCE "Black and White film" *
SOURCE_IMAGE_ID "NAPP 6361-228" *
SOURCE_IMAGE_DATE 1993 7 11 *
SOURCE_DEM_DATE 1983 7 3 *
AGENCY "WESTERN MAPPING CENTER (WMC)" *
PRODUCER "Hammon, Jensen, Wallen & Associates" *
PRODUCTION_SYSTEM "ORTHOVIEW" *
STANDARD_VERSION 1996 12 *
METADATA_DATE 1997 11 4 *
DATA_FILE_SIZE 46651092 *
BYTE_COUNT 6161 * * * * * * * * * * * * * * * * * * * * * * * * * * * * * * * * * *
END_USGS_HEADER *
