BEGIN_USGS_DOQ_HEADER *
QUADRANGLE_NAME "PLANTATION" *
QUADRANT NE *
WEST_LONGITUDE -123 18 45.0 *
EAST_LONGITUDE -123 15 0.0 *
NORTH_LATITUDE 38 37 30.0 *
SOUTH_LATITUDE 38 33 45.0 *
PRODUCTION_DATE 1997 9 15 *
RASTER_ORDER LEFT_RIGHT/TOP_BOTTOM *
BAND_ORGANIZATION "SINGLE FILE" *
BAND_CONTENT BLACK&WHITE *
BITS_PER_PIXEL 8 *
SAMPLES_AND_LINES 6171 7581 *
HORIZONTAL_DATUM NAD83 *
HORIZONTAL_COORDINATE_SYSTEM UTM *
COORDINATE_ZONE 10 *
HORIZONTAL_UNITS METERS *
HORIZONTAL_RESOLUTION 1.0 *
SECONDARY_HORIZONTAL_DATUM NAD27 *
XY_ORIGIN 472370.000 4275520.000 *
SECONDARY_XY_ORIGIN 472466.780 4275322.260 *
NATION US *
STATE CA *
NW_QUAD_CORNER_XY 472797.793 4275210.076 *
NE_QUAD_CORNER_XY 478238.243 4275193.406 *
SE_QUAD_CORNER_XY 478219.367 4268258.183 *
SW_QUAD_CORNER_XY 472774.197 4268274.845 *
SECONDARY_NW_QUAD_XY 472797.102 4275002.947 *
SECONDARY_NE_QUAD_XY 478237.690 4274986.277 *
SECONDARY_SE_QUAD_XY 478218.814 4268051.195 *
SECONDARY_SW_QUAD_XY 472773.507 4268067.857 *
RMSE_XY 1.315 *
IMAGE_SOURCE "Black and White film" *
SOURCE_IMAGE_ID "NAPP 6363-4" *
SOURCE_IMAGE_DATE 1993 7 12 *
SOURCE_DEM_DATE 1977 1 1 *
AGENCY "WESTERN MAPPING CENTER (WMC)" *
PRODUCER "Hammon, Jensen, Wallen & Associates" *
PRODUCTION_SYSTEM "ORTHOVIEW" *
STANDARD_VERSION 1996 12 *
METADATA_DATE 1997 9 15 *
DATA_FILE_SIZE 46788522 *
BYTE_COUNT 6171 * * * * * * * * * * * * * * * * * * * * * * * * * * * * * * * * * * *
END_USGS_HEADER *
