BEGIN_USGS_DOQ_HEADER *
QUADRANGLE_NAME "PLANTATION" *
QUADRANT SW *
WEST_LONGITUDE -123 22 30.0 *
EAST_LONGITUDE -123 18 45.0 *
NORTH_LATITUDE 38 33 45.0 *
SOUTH_LATITUDE 38 30 0.0 *
PRODUCTION_DATE 1997 9 15 *
RASTER_ORDER LEFT_RIGHT/TOP_BOTTOM *
BAND_ORGANIZATION "SINGLE FILE" *
BAND_CONTENT BLACK&WHITE *
BITS_PER_PIXEL 8 *
SAMPLES_AND_LINES 6181 7571 *
HORIZONTAL_DATUM NAD83 *
HORIZONTAL_COORDINATE_SYSTEM UTM *
COORDINATE_ZONE 10 *
HORIZONTAL_UNITS METERS *
HORIZONTAL_RESOLUTION 1.0 *
SECONDARY_HORIZONTAL_DATUM NAD27 *
XY_ORIGIN 466900.000 4268600.000 *
SECONDARY_XY_ORIGIN 466996.807 4268402.187 *
NATION US *
STATE CA *
NW_QUAD_CORNER_XY 467329.021 4268295.210 *
NE_QUAD_CORNER_XY 472774.197 4268274.845 *
SE_QUAD_CORNER_XY 472750.634 4261339.687 *
SW_QUAD_CORNER_XY 467300.744 4261360.042 *
SECONDARY_NW_QUAD_XY 467328.192 4268088.223 *
SECONDARY_NE_QUAD_XY 472773.507 4268067.857 *
SECONDARY_SE_QUAD_XY 472749.944 4261132.842 *
SECONDARY_SW_QUAD_XY 467299.917 4261153.197 *
RMSE_XY 2.828 *
IMAGE_SOURCE "Black and White film" *
SOURCE_IMAGE_ID "NAPP 6363-65" *
SOURCE_IMAGE_DATE 1993 7 12 *
SOURCE_DEM_DATE 1977 1 1 *
AGENCY "WESTERN MAPPING CENTER (WMC)" *
PRODUCER "Hammon, Jensen, Wallen & Associates" *
PRODUCTION_SYSTEM "ORTHOVIEW" *
STANDARD_VERSION 1996 12 *
METADATA_DATE 1997 9 15 *
DATA_FILE_SIZE 46802532 *
BYTE_COUNT 6181 * * * * * * * * * * * * * * * * * * * * * * * * * * * * * * * * * * *
END_USGS_HEADER *
