BEGIN_USGS_DOQ_HEADER *
QUADRANGLE_NAME "WARM SPRINGS DAM" *
QUADRANT NE *
WEST_LONGITUDE -123 3 45.0 *
EAST_LONGITUDE -123 0 0.0 *
NORTH_LATITUDE 38 45 0.0 *
SOUTH_LATITUDE 38 41 15.0 *
PRODUCTION_DATE 1997 11 4 *
RASTER_ORDER LEFT_RIGHT/TOP_BOTTOM *
BAND_ORGANIZATION "SINGLE FILE" *
BAND_CONTENT BLACK&WHITE *
BITS_PER_PIXEL 8 *
SAMPLES_AND_LINES 6141 7561 *
HORIZONTAL_DATUM NAD83 *
HORIZONTAL_COORDINATE_SYSTEM UTM *
COORDINATE_ZONE 10 *
HORIZONTAL_UNITS METERS *
HORIZONTAL_RESOLUTION 1.0 *
SECONDARY_HORIZONTAL_DATUM NAD27 *
XY_ORIGIN 494160.000 4289340.000 *
SECONDARY_XY_ORIGIN 494256.600 4289142.532 *
NATION US *
STATE CA *
NW_QUAD_CORNER_XY 494569.022 4289036.264 *
NE_QUAD_CORNER_XY 500000.000 4289034.410 *
SE_QUAD_CORNER_XY 500000.000 4282099.053 *
SW_QUAD_CORNER_XY 494564.290 4282100.906 *
SECONDARY_NW_QUAD_XY 494568.884 4288828.853 *
SECONDARY_NE_QUAD_XY 500000.000 4288826.999 *
SECONDARY_SE_QUAD_XY 500000.000 4281891.782 *
SECONDARY_SW_QUAD_XY 494564.152 4281893.635 *
RMSE_XY 3.210 *
IMAGE_SOURCE "Black and White film" *
SOURCE_IMAGE_ID "NAPP 6362-107" *
SOURCE_IMAGE_DATE 1993 7 11 *
SOURCE_DEM_DATE 1978 1 1 *
AGENCY "WESTERN MAPPING CENTER (WMC)" *
PRODUCER "Hammon, Jensen, Wallen & Associates" *
PRODUCTION_SYSTEM "ORTHOVIEW" *
STANDARD_VERSION 1996 12 *
METADATA_DATE 1997 11 4 *
DATA_FILE_SIZE 46438242 *
BYTE_COUNT 6141 * * * * * * * * * * * * * * * * * * * * * * * * * * * * * * * * * *
END_USGS_HEADER *
