BEGIN_USGS_DOQ_HEADER *
QUADRANGLE_NAME "TOMBS CREEK" *
QUADRANT SE *
WEST_LONGITUDE -123 11 15.0 *
EAST_LONGITUDE -123 7 30.0 *
NORTH_LATITUDE 38 41 15.0 *
SOUTH_LATITUDE 38 37 30.0 *
PRODUCTION_DATE 1997 11 3 *
RASTER_ORDER LEFT_RIGHT/TOP_BOTTOM *
BAND_ORGANIZATION "SINGLE FILE" *
BAND_CONTENT BLACK&WHITE *
BITS_PER_PIXEL 8 *
SAMPLES_AND_LINES 6151 7561 *
HORIZONTAL_DATUM NAD83 *
HORIZONTAL_COORDINATE_SYSTEM UTM *
COORDINATE_ZONE 10 *
HORIZONTAL_UNITS METERS *
HORIZONTAL_RESOLUTION 1.0 *
SECONDARY_HORIZONTAL_DATUM NAD27 *
XY_ORIGIN 483280.000 4282420.000 *
SECONDARY_XY_ORIGIN 483376.753 4282222.401 *
NATION US *
STATE CA *
NW_QUAD_CORNER_XY 483692.864 4282115.731 *
NE_QUAD_CORNER_XY 489128.578 4282106.466 *
SE_QUAD_CORNER_XY 489119.127 4275171.179 *
SW_QUAD_CORNER_XY 483678.687 4275180.440 *
SECONDARY_NW_QUAD_XY 483692.449 4281908.461 *
SECONDARY_NE_QUAD_XY 489128.302 4281899.195 *
SECONDARY_SE_QUAD_XY 489118.851 4274964.049 *
SECONDARY_SW_QUAD_XY 483678.273 4274973.310 *
RMSE_XY 1.215 *
IMAGE_SOURCE "Black and White film" *
SOURCE_IMAGE_ID "NAPP 6362-170" *
SOURCE_IMAGE_DATE 1993 7 12 *
SOURCE_DEM_DATE 1978 0 0 *
AGENCY "WESTERN MAPPING CENTER (WMC)" *
PRODUCER "Hammon, Jensen, Wallen & Associates" *
PRODUCTION_SYSTEM "ORTHOVIEW" *
STANDARD_VERSION 1996 12 *
METADATA_DATE 1997 11 3 *
DATA_FILE_SIZE 46513862 *
BYTE_COUNT 6151 * * * * * * * * * * * * * * * * * * * * * * * * * * * * * * * * * *
END_USGS_HEADER *
