BEGIN_USGS_DOQ_HEADER *
QUADRANGLE_NAME "BIG FOOT MOUNTAIN" *
QUADRANT NW *
WEST_LONGITUDE -123 15 0.0 *
EAST_LONGITUDE -123 11 15.0 *
NORTH_LATITUDE 38 52 30.0 *
SOUTH_LATITUDE 38 48 45.0 *
PRODUCTION_DATE 1998 3 20 *
RASTER_ORDER LEFT_RIGHT/TOP_BOTTOM *
BAND_ORGANIZATION "SINGLE FILE" *
BAND_CONTENT BLACK&WHITE *
BITS_PER_PIXEL 8 *
SAMPLES_AND_LINES 6151 7571 *
HORIZONTAL_DATUM NAD83 *
HORIZONTAL_COORDINATE_SYSTEM UTM *
COORDINATE_ZONE 10 *
HORIZONTAL_UNITS METERS *
HORIZONTAL_RESOLUTION 1.0 *
SECONDARY_HORIZONTAL_DATUM NAD27 *
XY_ORIGIN 477890.000 4303240.000 *
SECONDARY_XY_ORIGIN 477986.495 4303042.667 *
NATION US *
STATE CA *
NW_QUAD_CORNER_XY 478314.009 4302935.042 *
NE_QUAD_CORNER_XY 483735.511 4302922.051 *
SE_QUAD_CORNER_XY 483721.276 4295986.537 *
SW_QUAD_CORNER_XY 478295.028 4295999.521 *
SECONDARY_NW_QUAD_XY 478313.455 4302727.354 *
SECONDARY_NE_QUAD_XY 483735.096 4302714.362 *
SECONDARY_SE_QUAD_XY 483720.861 4295778.987 *
SECONDARY_SW_QUAD_XY 478294.475 4295791.972 *
RMSE_XY 1.900 *
IMAGE_SOURCE "Black and White film" *
SOURCE_IMAGE_ID "NAPP 6362-219" *
SOURCE_IMAGE_DATE 1993 7 12 *
SOURCE_IMAGE_ID "NAPP 6362-218" *
SOURCE_IMAGE_DATE 1993 7 12 *
SOURCE_DEM_DATE 1991 1 1 *
AGENCY "WESTERN MAPPING CENTER (WMC)" *
PRODUCER "Hammon, Jensen, Wallen & Associates" *
PRODUCTION_SYSTEM "ORTHOVIEW" *
STANDARD_VERSION 1996 12 *
METADATA_DATE 1998 3 20 *
DATA_FILE_SIZE 46575372 *
BYTE_COUNT 6151 * * * * * * * * * * * * * * * * * * * * * * * * * * * * * * * *
END_USGS_HEADER *
