BEGIN_USGS_DOQ_HEADER *
QUADRANGLE_NAME "BIG FOOT MOUNTAIN" *
QUADRANT SE *
WEST_LONGITUDE -123 11 15.0 *
EAST_LONGITUDE -123 7 30.0 *
NORTH_LATITUDE 38 48 45.0 *
SOUTH_LATITUDE 38 45 0.0 *
PRODUCTION_DATE 1998 3 20 *
RASTER_ORDER LEFT_RIGHT/TOP_BOTTOM *
BAND_ORGANIZATION "SINGLE FILE" *
BAND_CONTENT BLACK&WHITE *
BITS_PER_PIXEL 8 *
SAMPLES_AND_LINES 6151 7561 *
HORIZONTAL_DATUM NAD83 *
HORIZONTAL_COORDINATE_SYSTEM UTM *
COORDINATE_ZONE 10 *
HORIZONTAL_UNITS METERS *
HORIZONTAL_RESOLUTION 1.0 *
SECONDARY_HORIZONTAL_DATUM NAD27 *
XY_ORIGIN 483300.000 4296290.000 *
SECONDARY_XY_ORIGIN 483396.570 4296092.560 *
NATION US *
STATE CA *
NW_QUAD_CORNER_XY 483721.276 4295986.537 *
NE_QUAD_CORNER_XY 489147.520 4295977.262 *
SE_QUAD_CORNER_XY 489138.043 4289041.826 *
SW_QUAD_CORNER_XY 483707.060 4289051.097 *
SECONDARY_NW_QUAD_XY 483720.861 4295778.987 *
SECONDARY_NE_QUAD_XY 489147.243 4295769.711 *
SECONDARY_SE_QUAD_XY 489137.766 4288834.415 *
SECONDARY_SW_QUAD_XY 483706.645 4288843.686 *
RMSE_XY 2.156 *
IMAGE_SOURCE "Black and White film" *
SOURCE_IMAGE_ID "NAPP 6362-174" *
SOURCE_IMAGE_DATE 1993 7 12 *
SOURCE_IMAGE_ID "NAPP 6362-176" *
SOURCE_IMAGE_DATE 1993 7 12 *
SOURCE_IMAGE_ID "NAPP 6362-219" *
SOURCE_IMAGE_DATE 1993 7 12 *
SOURCE_DEM_DATE 1991 1 1 *
AGENCY "WESTERN MAPPING CENTER (WMC)" *
PRODUCER "Hammon, Jensen, Wallen & Associates" *
PRODUCTION_SYSTEM "ORTHOVIEW" *
STANDARD_VERSION 1996 12 *
METADATA_DATE 1998 3 20 *
DATA_FILE_SIZE 46513862 *
BYTE_COUNT 6151 * * * * * * * * * * * * * * * * * * * * * * * * * * * * * *
END_USGS_HEADER *
