BEGIN_USGS_DOQ_HEADER *
QUADRANGLE_NAME "GUBE MOUNTAIN" *
QUADRANT NE *
WEST_LONGITUDE -123 18 45.0 *
EAST_LONGITUDE -123 15 0.0 *
NORTH_LATITUDE 38 52 30.0 *
SOUTH_LATITUDE 38 48 45.0 *
PRODUCTION_DATE 1997 9 15 *
RASTER_ORDER LEFT_RIGHT/TOP_BOTTOM *
BAND_ORGANIZATION "SINGLE FILE" *
BAND_CONTENT BLACK&WHITE *
BITS_PER_PIXEL 8 *
SAMPLES_AND_LINES 6151 7581 *
HORIZONTAL_DATUM NAD83 *
HORIZONTAL_COORDINATE_SYSTEM UTM *
COORDINATE_ZONE 10 *
HORIZONTAL_UNITS METERS *
HORIZONTAL_RESOLUTION 1.0 *
SECONDARY_HORIZONTAL_DATUM NAD27 *
XY_ORIGIN 472470.000 4303260.000 *
SECONDARY_XY_ORIGIN 472566.402 4303062.527 *
NATION US *
STATE CA *
NW_QUAD_CORNER_XY 472892.501 4302951.745 *
NE_QUAD_CORNER_XY 478314.009 4302935.042 *
SE_QUAD_CORNER_XY 478295.028 4295999.521 *
SW_QUAD_CORNER_XY 472868.775 4296016.216 *
SECONDARY_NW_QUAD_XY 472891.808 4302744.057 *
SECONDARY_NE_QUAD_XY 478313.455 4302727.354 *
SECONDARY_SE_QUAD_XY 478294.475 4295791.972 *
SECONDARY_SW_QUAD_XY 472868.083 4295808.667 *
RMSE_XY 2.505 *
IMAGE_SOURCE "Black and White film" *
SOURCE_IMAGE_ID "NAPP 6363-12" *
SOURCE_IMAGE_DATE 1993 7 12 *
SOURCE_DEM_DATE 1991 1 1 *
AGENCY "WESTERN MAPPING CENTER (WMC)" *
PRODUCER "Hammon, Jensen, Wallen & Associates" *
PRODUCTION_SYSTEM "ORTHOVIEW" *
STANDARD_VERSION 1996 12 *
METADATA_DATE 1997 9 15 *
DATA_FILE_SIZE 46636882 *
BYTE_COUNT 6151 * * * * * * * * * * * * * * * * * * * * * * * * * * * * * * * * * *
END_USGS_HEADER *
