BEGIN_USGS_DOQ_HEADER *
QUADRANGLE_NAME "ORNBAUN VALLEY" 3.45 or 7.5-min. name*
QUADRANT SE quadrant indicator if cell size = 3.75-minutes*
WEST_LONGITUDE -123 18 45.000 signed deg min sec SDDD MM SS.SSS*
EAST_LONGITUDE -123 15 0.000 signed deg min sec SDDD MM SS.SSS*
NORTH_LATITUDE 38 56 15.000 signed deg min sec SDDD MM SS.SSS*
SOUTH_LATITUDE 38 52 30.000 signed deg min sec SDDD MM SS.SSS*
PRODUCTION_DATE 1997 6 30 yyyy mm dd*
RASTER_ORDER LEFT_RIGHT/TOP_BOTTOM video display order*
BAND_ORGANIZATION "SINGLE FILE" single file or BSQ, or BIL or BIP*
BAND_CONTENT BLACK&WHITE black&white or red green blue*
BITS_PER_PIXEL 8 radiometric resolution*
SAMPLES_AND_LINES 6141 7566 number of columns and rows*
HORIZONTAL_DATUM NAD83 primary horizontal datum*
HORIZONTAL_COORDINATE_SYSTEM UTM *
COORDINATE_ZONE 10 coordinate system zone number*
HORIZONTAL_UNITS METERS coordinate system units*
HORIZONTAL_RESOLUTION 1.00 pixel horiz. ground sample distance*
SECONDARY_HORIZONTAL_DATUM NAD27 secondary horizontal datum*
XY_ORIGIN 472494.000 4310188.000 coord. of upper left pixel pri. datum*
SECONDARY_XY_ORIGIN 472590.307 4309990.720 coord upper left pixel sec datum*
NATION US nation code*
STATE CA state fip code*
NW_QUAD_CORNER_XY 472916.259 4309887.347 XY coords. of pri. NW quad corner*
NE_QUAD_CORNER_XY 478333.015 4309870.636 XY coords. of pri. NE quad corner*
SE_QUAD_CORNER_XY 478314.009 4302935.042 XY coords. of pri. SE quad corner*
SW_QUAD_CORNER_XY 472892.501 4302951.744 XY coords. of pri. SW quad corner*
SECONDARY_NW_QUAD_XY 472915.566 4309679.522 XY coords. - sec. NW quad cor.*
SECONDARY_NE_QUAD_XY 478332.461 4309662.810 XY coords. - sec. NE quad cor.*
SECONDARY_SE_QUAD_XY 478313.455 4302727.353 XY coords. - sec. SE quad cor.*
SECONDARY_SW_QUAD_XY 472891.808 4302744.057 XY coords. - sec. SW quad cor.*
RMSE_XY 4.50 doq horiz. accuracy*
IMAGE_SOURCE "BLACK AND WHITE FILM" b&w, cir, natural color, other*
SOURCE_IMAGE_ID "NAPP 6363 014" source image id*
SOURCE_IMAGE_DATE 1993 7 12 source image date as yyyy mm dd*
SOURCE_DEM_DATE 1997 6 30 source dem date yyyy mm dd*
AGENCY "WESTERN MAPPING CENTER (WMC)" oversight agency*
PRODUCER "Science Applications International" producer/contractor*
PRODUCTION_SYSTEM "GIS/MAGIC" production system*
STANDARD_VERSION 1996 12 version of DOQ standard*
METADATA_DATE 1997 12 30 date created or changed, yyyy mm dd*
DATA_FILE_SIZE 46468947 data set size in bytes*
BYTE_COUNT 6141 header byte count* * * * * * * * * * * * * * * * * * * * * * * * * * * * * * * * * *
END_USGS_HEADER *
