BEGIN_USGS_DOQ_HEADER *
QUADRANGLE_NAME "MCTARNAHAN HILL" 3.45 or 7.5-min. name*
QUADRANT NE quadrant indicator if cell size = 3.75-minutes*
WEST_LONGITUDE -119 41 15.000 signed deg min sec SDDD MM SS.SSS*
EAST_LONGITUDE -119 37 30.000 signed deg min sec SDDD MM SS.SSS*
NORTH_LATITUDE 39 7 30.000 signed deg min sec SDDD MM SS.SSS*
SOUTH_LATITUDE 39 3 45.000 signed deg min sec SDDD MM SS.SSS*
PRODUCTION_DATE 2002 4 10 yyyy mm dd*
RASTER_ORDER LEFT_RIGHT/TOP_BOTTOM video display order*
BAND_ORGANIZATION "SINGLE FILE" single file or BSQ, or BIL or BIP*
BAND_CONTENT BLACK&WHITE black&white or red green blue*
BITS_PER_PIXEL 8 radiometric resolution*
SAMPLES_AND_LINES 6300 7706 number of columns and rows*
HORIZONTAL_DATUM NAD83 primary horizontal datum*
HORIZONTAL_COORDINATE_SYSTEM UTM *
COORDINATE_ZONE 11 coordinate system zone number*
HORIZONTAL_UNITS METERS coordinate system units*
HORIZONTAL_RESOLUTION 1.00 pixel horiz. ground sample distance*
SECONDARY_HORIZONTAL_DATUM NAD27 secondary horizontal datum*
XY_ORIGIN 267083.000 4334389.000 coord. of upper left pixel pri. datum*
SECONDARY_XY_ORIGIN 267165.000 4334189.000 coord upper left pixel sec datum*
NATION US nation code*
STATE NV state fip code*
NW_QUAD_CORNER_XY 267677.151 4334087.685 XY coords. of pri. NW quad corner*
NE_QUAD_CORNER_XY 273080.795 4333929.492 XY coords. of pri. NE quad corner*
SE_QUAD_CORNER_XY 272880.231 4326992.183 XY coords. of pri. SE quad corner*
SW_QUAD_CORNER_XY 267471.804 4327150.303 XY coords. of pri. SW quad corner*
SECONDARY_NW_QUAD_XY 267671.176 4333879.539 XY coords. - sec. NW quad cor.*
SECONDARY_NE_QUAD_XY 273074.959 4333721.342 XY coords. - sec. NE quad cor.*
SECONDARY_SE_QUAD_XY 272874.399 4326784.168 XY coords. - sec. SE quad cor.*
SECONDARY_SW_QUAD_XY 267465.832 4326942.293 XY coords. - sec. SW quad cor.*
RMSE_XY 2.20 doq horiz. accuracy*
IMAGE_SOURCE "BLACK AND WHITE FILM" b&w, cir, natural color, other*
SOURCE_IMAGE_ID "NAPP 11547 91" source image id*
SOURCE_IMAGE_DATE 1999 9 6 source image date as yyyy mm dd*
SOURCE_DEM_DATE 1967 0 00 source dem date yyyy mm dd*
AGENCY "WESTERN MAPPING CENTER (WMC)" oversight agency*
PRODUCER "WESTERN MAPPING CENTER (WMC)" *
PRODUCTION_SYSTEM "DV2.6.4 1/00 OV2.6 6/00" production system*
STANDARD_VERSION 1996 12 version of DOQ standard*
METADATA_DATE 2002 4 10 date created or changed, yyyy mm dd*
DATA_FILE_SIZE 48554100 data set size in bytes*
BYTE_COUNT 6300 header byte count* * * * * * * * * * * * * * * * * * * * * * * * * * * * * * * * * * * *
END_USGS_HEADER *
