BEGIN_USGS_DOQ_HEADER *
QUADRANGLE_NAME "MCTARNAHAN HILL" 3.45 or 7.5-min. name*
QUADRANT SW quadrant indicator if cell size = 3.75-minutes*
WEST_LONGITUDE -119 45 0.000 signed deg min sec SDDD MM SS.SSS*
EAST_LONGITUDE -119 41 15.000 signed deg min sec SDDD MM SS.SSS*
NORTH_LATITUDE 39 3 45.000 signed deg min sec SDDD MM SS.SSS*
SOUTH_LATITUDE 39 0 0.000 signed deg min sec SDDD MM SS.SSS*
PRODUCTION_DATE 2002 4 9 yyyy mm dd*
RASTER_ORDER LEFT_RIGHT/TOP_BOTTOM video display order*
BAND_ORGANIZATION "SINGLE FILE" single file or BSQ, or BIL or BIP*
BAND_CONTENT BLACK&WHITE black&white or red green blue*
BITS_PER_PIXEL 8 radiometric resolution*
SAMPLES_AND_LINES 6309 7710 number of columns and rows*
HORIZONTAL_DATUM NAD83 primary horizontal datum*
HORIZONTAL_COORDINATE_SYSTEM UTM *
COORDINATE_ZONE 11 coordinate system zone number*
HORIZONTAL_UNITS METERS coordinate system units*
HORIZONTAL_RESOLUTION 1.00 pixel horiz. ground sample distance*
SECONDARY_HORIZONTAL_DATUM NAD27 secondary horizontal datum*
XY_ORIGIN 261465.000 4327613.000 coord. of upper left pixel pri. datum*
SECONDARY_XY_ORIGIN 261546.793 4327412.485 coord upper left pixel sec datum*
NATION US nation code*
STATE NV state fip code*
NW_QUAD_CORNER_XY 262063.318 4327312.151 XY coords. of pri. NW quad corner*
NE_QUAD_CORNER_XY 267471.804 4327150.303 XY coords. of pri. NE quad corner*
SE_QUAD_CORNER_XY 267266.733 4320212.980 XY coords. of pri. SE quad corner*
SW_QUAD_CORNER_XY 261853.469 4320374.753 XY coords. of pri. SW quad corner*
SECONDARY_NW_QUAD_XY 262057.208 4327104.145 XY coords. - sec. NW quad cor.*
SECONDARY_NE_QUAD_XY 267465.832 4326942.293 XY coords. - sec. NE quad cor.*
SECONDARY_SE_QUAD_XY 267260.766 4320005.105 XY coords. - sec. SE quad cor.*
SECONDARY_SW_QUAD_XY 261847.363 4320166.883 XY coords. - sec. SW quad cor.*
RMSE_XY 1.90 doq horiz. accuracy*
IMAGE_SOURCE "BLACK AND WHITE FILM" b&w, cir, natural color, other*
SOURCE_IMAGE_ID "NAPP 11547 54" source image id*
SOURCE_IMAGE_DATE 1999 9 6 source image date as yyyy mm dd*
SOURCE_DEM_DATE 1967 0 0 source dem date yyyy mm dd*
AGENCY "WESTERN MAPPING CENTER (WMC)" oversight agency*
PRODUCER "WESTERN MAPPING CENTER (WMC)" *
PRODUCTION_SYSTEM "DV2.6.4 1/00 OV2.6 6/00" production system*
STANDARD_VERSION 1996 12 version of DOQ standard*
METADATA_DATE 2002 4 9 date created or changed, yyyy mm dd*
DATA_FILE_SIZE 48648699 data set size in bytes*
BYTE_COUNT 6309 header byte count* * * * * * * * * * * * * * * * * * * * * * * * * * * * * * * * * * * *
END_USGS_HEADER *
