BEGIN_USGS_DOQ_HEADER *
QUADRANGLE_NAME "GENOA" *
QUADRANT NW *
WEST_LONGITUDE -119 52 30.000 *
EAST_LONGITUDE -119 48 45.000 *
NORTH_LATITUDE 39 7 30.000 *
SOUTH_LATITUDE 39 3 45.000 *
PRODUCTION_DATE 2003 1 28 *
RASTER_ORDER LEFT_RIGHT/TOP_BOTTOM *
BAND_ORGANIZATION "SINGLE FILE" *
BAND_CONTENT BLACK&WHITE *
BITS_PER_PIXEL 8 *
SAMPLES_AND_LINES 6312 7714 *
HORIZONTAL_DATUM NAD83 *
HORIZONTAL_COORDINATE_SYSTEM UTM *
COORDINATE_ZONE 11 *
HORIZONTAL_UNITS METERS *
HORIZONTAL_RESOLUTION 1.0 *
SECONDARY_HORIZONTAL_DATUM NAD27 *
XY_ORIGIN 250858.036 4334884.641 *
SECONDARY_XY_ORIGIN 250939.851 4334683.882 *
NATION US *
STATE NV *
NW_QUAD_CORNER_XY 251465.876 4334584.641 *
NE_QUAD_CORNER_XY 256869.693 4334415.258 *
SE_QUAD_CORNER_XY 256654.775 4327477.727 *
SW_QUAD_CORNER_XY 251246.171 4327647.032 *
SECONDARY_NW_QUAD_XY 251459.485 4334376.509 *
SECONDARY_NE_QUAD_XY 256863.442 4334207.122 *
SECONDARY_SE_QUAD_XY 256648.527 4327269.725 *
SECONDARY_SW_QUAD_XY 251239.784 4327439.035 *
RMSE_XY 1.48 *
IMAGE_SOURCE "BLACK AND WHITE FILM" *
SOURCE_IMAGE_ID "NAPP 11553 75" *
SOURCE_IMAGE_DATE 1999 9 11 *
SOURCE_IMAGE_ID "NAPP 11553 76" *
SOURCE_IMAGE_DATE 1999 9 11 *
SOURCE_IMAGE_ID "NAPP 11553 74" *
SOURCE_IMAGE_DATE 1999 9 11 *
SOURCE_IMAGE_ID "NAPP 11547 46" *
SOURCE_IMAGE_DATE 1999 9 6 *
SOURCE_IMAGE_ID "NAPP 11547 45" *
SOURCE_IMAGE_DATE 1999 9 6 *
SOURCE_IMAGE_ID "NAPP 11547 44" *
SOURCE_IMAGE_DATE 1999 9 6 *
SOURCE_DEM_DATE 2003 1 1 *
AGENCY "WESTERN MAPPING CENTER (WMC)" *
PRODUCER "USDA FS GEOSPATIAL SERVICE AND TECHNOLOGY CENTER" *
PRODUCTION_SYSTEM "ORBIT OR_RECTIFY V.5.2" *
STANDARD_VERSION 1996 12 *
METADATA_DATE 2003 3 6 *
DATA_FILE_SIZE 48697080 *
BYTE_COUNT 6312 * * * * * * * * * * * * * * * * * * * * * * * * * *
END_USGS_HEADER *
