BEGIN_USGS_DOQ_HEADER *
QUADRANGLE_NAME "GENOA" *
QUADRANT SE *
WEST_LONGITUDE -119 48 45.000 *
EAST_LONGITUDE -119 45 0.000 *
NORTH_LATITUDE 39 3 45.000 *
SOUTH_LATITUDE 39 0 0.000 *
PRODUCTION_DATE 2003 1 28 *
RASTER_ORDER LEFT_RIGHT/TOP_BOTTOM *
BAND_ORGANIZATION "SINGLE FILE" *
BAND_CONTENT BLACK&WHITE *
BITS_PER_PIXEL 8 *
SAMPLES_AND_LINES 6311 7711 *
HORIZONTAL_DATUM NAD83 *
HORIZONTAL_COORDINATE_SYSTEM UTM *
COORDINATE_ZONE 11 *
HORIZONTAL_UNITS METERS *
HORIZONTAL_RESOLUTION 1.0 *
SECONDARY_HORIZONTAL_DATUM NAD27 *
XY_ORIGIN 256052.170 4327777.727 *
SECONDARY_XY_ORIGIN 256133.942 4327577.168 *
NATION US *
STATE NV *
NW_QUAD_CORNER_XY 256654.775 4327477.727 *
NE_QUAD_CORNER_XY 262063.318 4327312.151 *
SE_QUAD_CORNER_XY 261853.469 4320374.753 *
SW_QUAD_CORNER_XY 256440.146 4320540.253 *
SECONDARY_NW_QUAD_XY 256648.527 4327269.725 *
SECONDARY_NE_QUAD_XY 262057.210 4327104.145 *
SECONDARY_SE_QUAD_XY 261847.365 4320166.882 *
SECONDARY_SW_QUAD_XY 256433.903 4320332.386 *
RMSE_XY 1.48 *
IMAGE_SOURCE "BLACK AND WHITE FILM" *
SOURCE_IMAGE_ID "NAPP 11547 47" *
SOURCE_IMAGE_DATE 1999 9 6 *
SOURCE_IMAGE_ID "NAPP 11547 48" *
SOURCE_IMAGE_DATE 1999 9 6 *
SOURCE_IMAGE_ID "NAPP 11547 46" *
SOURCE_IMAGE_DATE 1999 9 6 *
SOURCE_IMAGE_ID "NAPP 11553 78" *
SOURCE_IMAGE_DATE 1999 9 11 *
SOURCE_IMAGE_ID "NAPP 11553 77" *
SOURCE_IMAGE_DATE 1999 9 11 *
SOURCE_IMAGE_ID "NAPP 11553 76" *
SOURCE_IMAGE_DATE 1999 9 11 *
SOURCE_IMAGE_ID "NAPP 11547 53" *
SOURCE_IMAGE_DATE 1999 9 6 *
SOURCE_DEM_DATE 2003 1 1 *
AGENCY "WESTERN MAPPING CENTER (WMC)" *
PRODUCER "USDA FS GEOSPATIAL SERVICE AND TECHNOLOGY CENTER" *
PRODUCTION_SYSTEM "ORBIT OR_RECTIFY V.5.2" *
STANDARD_VERSION 1996 12 *
METADATA_DATE 2003 3 6 *
DATA_FILE_SIZE 48670432 *
BYTE_COUNT 6311 * * * * * * * * * * * * * * * * * * * * * * * *
END_USGS_HEADER *
