BEGIN_USGS_DOQ_HEADER *
QUADRANGLE_NAME "GLENBROOK" 3.45 or 7.5-min. name*
QUADRANT NW quadrant indicator if cell size = 3.75-minutes*
WEST_LONGITUDE -120 0 0.000 signed deg min sec SDDD MM SS.SSS*
EAST_LONGITUDE -119 56 15.000 signed deg min sec SDDD MM SS.SSS*
NORTH_LATITUDE 39 7 30.000 signed deg min sec SDDD MM SS.SSS*
SOUTH_LATITUDE 39 3 45.000 signed deg min sec SDDD MM SS.SSS*
PRODUCTION_DATE 2000 4 25 yyyy mm dd*
RASTER_ORDER LEFT_RIGHT/TOP_BOTTOM video display order*
BAND_ORGANIZATION "SINGLE FILE" single file or BSQ, or BIL or BIP*
BAND_CONTENT BLACK&WHITE black&white or red green blue*
BITS_PER_PIXEL 8 radiometric resolution*
SAMPLES_AND_LINES 6324 7725 number of columns and rows*
HORIZONTAL_DATUM NAD83 primary horizontal datum*
HORIZONTAL_COORDINATE_SYSTEM UTM *
COORDINATE_ZONE 11 coordinate system zone number*
HORIZONTAL_UNITS METERS coordinate system units*
HORIZONTAL_RESOLUTION 1.00 pixel horiz. ground sample distance*
SECONDARY_HORIZONTAL_DATUM NAD27 secondary horizontal datum*
XY_ORIGIN 240039.000 4335236.000 coord. of upper left pixel pri. datum*
SECONDARY_XY_ORIGIN 240120.000 4335035.000 coord upper left pixel sec datum*
NATION US nation code*
STATE NV state fip code*
NW_QUAD_CORNER_XY 240658.058 4334934.599 XY coords. of pri. NW quad corner*
NE_QUAD_CORNER_XY 246061.998 4334757.754 XY coords. of pri. NE quad corner*
SE_QUAD_CORNER_XY 245837.506 4327820.067 XY coords. of pri. SE quad corner*
SW_QUAD_CORNER_XY 240428.778 4327996.831 XY coords. of pri. SW quad corner*
SECONDARY_NW_QUAD_XY 240651.388 4334726.475 XY coords. - sec. NW quad cor.*
SECONDARY_NE_QUAD_XY 246055.467 4334549.626 XY coords. - sec. NE quad cor.*
SECONDARY_SE_QUAD_XY 245830.979 4327612.073 XY coords. - sec. SE quad cor.*
SECONDARY_SW_QUAD_XY 240422.112 4327788.842 XY coords. - sec. SW quad cor.*
RMSE_XY 1.40 doq horiz. accuracy*
IMAGE_SOURCE "BLACK AND WHITE FILM" b&w, cir, natural color, other*
SOURCE_IMAGE_ID "NAPP 10554 73" source image id*
SOURCE_IMAGE_DATE 1998 8 25 source image date as yyyy mm dd*
SOURCE_DEM_DATE 1992 0 00 source dem date yyyy mm dd*
AGENCY "WESTERN MAPPING CENTER (WMC)" oversight agency*
PRODUCER "WESTERN MAPPING CENTER (WMC)" *
PRODUCTION_SYSTEM "DV2.6.3 10/9OV2.4 5/95" production system*
STANDARD_VERSION 1996 12 version of DOQ standard*
METADATA_DATE 2000 4 25 date created or changed, yyyy mm dd*
DATA_FILE_SIZE 48859224 data set size in bytes*
BYTE_COUNT 6324 header byte count* * * * * * * * * * * * * * * * * * * * * * * * * * * * * * * * * * * * *
END_USGS_HEADER *
