BEGIN_USGS_DOQ_HEADER *
QUADRANGLE_NAME "CARSON CITY" *
QUADRANT NE *
WEST_LONGITUDE -119 48 45.000 *
EAST_LONGITUDE -119 45 0.000 *
NORTH_LATITUDE 39 15 0.000 *
SOUTH_LATITUDE 39 11 15.000 *
PRODUCTION_DATE 2003 1 28 *
RASTER_ORDER LEFT_RIGHT/TOP_BOTTOM *
BAND_ORGANIZATION "SINGLE FILE" *
BAND_CONTENT BLACK&WHITE *
BITS_PER_PIXEL 8 *
SAMPLES_AND_LINES 6298 7711 *
HORIZONTAL_DATUM NAD83 *
HORIZONTAL_COORDINATE_SYSTEM UTM *
COORDINATE_ZONE 11 *
HORIZONTAL_UNITS METERS *
HORIZONTAL_RESOLUTION 1.0 *
SECONDARY_HORIZONTAL_DATUM NAD27 *
XY_ORIGIN 256696.796 4348590.490 *
SECONDARY_XY_ORIGIN 256778.694 4348389.375 *
NATION US *
STATE NV *
NW_QUAD_CORNER_XY 257300.401 4348290.490 *
NE_QUAD_CORNER_XY 262694.568 4348124.689 *
SE_QUAD_CORNER_XY 262483.868 4341187.119 *
SW_QUAD_CORNER_XY 257084.902 4341352.846 *
SECONDARY_NW_QUAD_XY 257294.142 4348082.088 *
SECONDARY_NE_QUAD_XY 262688.449 4347916.283 *
SECONDARY_SE_QUAD_XY 262477.752 4340978.845 *
SECONDARY_SW_QUAD_XY 257078.647 4341144.576 *
RMSE_XY 1.48 *
IMAGE_SOURCE "BLACK AND WHITE FILM" *
SOURCE_IMAGE_ID "NAPP 11547 41" *
SOURCE_IMAGE_DATE 1999 9 6 *
SOURCE_IMAGE_ID "NAPP 11547 42" *
SOURCE_IMAGE_DATE 1999 9 6 *
SOURCE_IMAGE_ID "NAPP 11547 40" *
SOURCE_IMAGE_DATE 1999 9 6 *
SOURCE_IMAGE_ID "NAPP 11553 72" *
SOURCE_IMAGE_DATE 1999 9 11 *
SOURCE_IMAGE_ID "NAPP 11553 71" *
SOURCE_IMAGE_DATE 1999 9 11 *
SOURCE_IMAGE_ID "NAPP 11553 70" *
SOURCE_IMAGE_DATE 1999 9 11 *
SOURCE_IMAGE_ID "NAPP 11547 61" *
SOURCE_IMAGE_DATE 1999 9 6 *
SOURCE_DEM_DATE 2003 1 1 *
AGENCY "WESTERN MAPPING CENTER (WMC)" *
PRODUCER "USDA FS GEOSPATIAL SERVICE AND TECHNOLOGY CENTER" *
PRODUCTION_SYSTEM "ORBIT OR_RECTIFY V.5.2" *
STANDARD_VERSION 1996 12 *
METADATA_DATE 2003 3 6 *
DATA_FILE_SIZE 48570176 *
BYTE_COUNT 6298 * * * * * * * * * * * * * * * * * * * * * * * *
END_USGS_HEADER *
