BEGIN_USGS_DOQ_HEADER *
QUADRANGLE_NAME "CARSON CITY" *
QUADRANT SW *
WEST_LONGITUDE -119 52 30.000 *
EAST_LONGITUDE -119 48 45.000 *
NORTH_LATITUDE 39 11 15.000 *
SOUTH_LATITUDE 39 7 30.000 *
PRODUCTION_DATE 2003 1 28 *
RASTER_ORDER LEFT_RIGHT/TOP_BOTTOM *
BAND_ORGANIZATION "SINGLE FILE" *
BAND_CONTENT BLACK&WHITE *
BITS_PER_PIXEL 8 *
SAMPLES_AND_LINES 6307 7714 *
HORIZONTAL_DATUM NAD83 *
HORIZONTAL_COORDINATE_SYSTEM UTM *
COORDINATE_ZONE 11 *
HORIZONTAL_UNITS METERS *
HORIZONTAL_RESOLUTION 1.0 *
SECONDARY_HORIZONTAL_DATUM NAD27 *
XY_ORIGIN 251077.673 4341822.305 *
SECONDARY_XY_ORIGIN 251159.555 4341621.391 *
NATION US *
STATE NV *
NW_QUAD_CORNER_XY 251685.878 4341522.305 *
NE_QUAD_CORNER_XY 257084.902 4341352.846 *
SE_QUAD_CORNER_XY 256869.693 4334415.258 *
SW_QUAD_CORNER_XY 251465.876 4334584.641 *
SECONDARY_NW_QUAD_XY 251679.483 4341314.039 *
SECONDARY_NE_QUAD_XY 257078.647 4341144.576 *
SECONDARY_SE_QUAD_XY 256863.442 4334207.122 *
SECONDARY_SW_QUAD_XY 251459.485 4334376.509 *
RMSE_XY 1.48 *
IMAGE_SOURCE "BLACK AND WHITE FILM" *
SOURCE_IMAGE_ID "NAPP 11553 73" *
SOURCE_IMAGE_DATE 1999 9 11 *
SOURCE_IMAGE_ID "NAPP 11553 74" *
SOURCE_IMAGE_DATE 1999 9 11 *
SOURCE_IMAGE_ID "NAPP 11553 72" *
SOURCE_IMAGE_DATE 1999 9 11 *
SOURCE_IMAGE_ID "NAPP 11547 44" *
SOURCE_IMAGE_DATE 1999 9 6 *
SOURCE_IMAGE_ID "NAPP 11547 43" *
SOURCE_IMAGE_DATE 1999 9 6 *
SOURCE_IMAGE_ID "NAPP 11547 42" *
SOURCE_IMAGE_DATE 1999 9 6 *
SOURCE_DEM_DATE 2003 1 1 *
AGENCY "WESTERN MAPPING CENTER (WMC)" *
PRODUCER "USDA FS GEOSPATIAL SERVICE AND TECHNOLOGY CENTER" *
PRODUCTION_SYSTEM "ORBIT OR_RECTIFY V.5.2" *
STANDARD_VERSION 1996 12 *
METADATA_DATE 2003 3 6 *
DATA_FILE_SIZE 48658505 *
BYTE_COUNT 6307 * * * * * * * * * * * * * * * * * * * * * * * * * *
END_USGS_HEADER *
