BEGIN_USGS_DOQ_HEADER *
QUADRANGLE_NAME "MARLETTE LAKE" 3.45 or 7.5-min. name*
QUADRANT NE quadrant indicator if cell size = 3.75-minutes*
WEST_LONGITUDE -119 56 15.000 signed deg min sec SDDD MM SS.SSS*
EAST_LONGITUDE -119 52 30.000 signed deg min sec SDDD MM SS.SSS*
NORTH_LATITUDE 39 15 0.000 signed deg min sec SDDD MM SS.SSS*
SOUTH_LATITUDE 39 11 15.000 signed deg min sec SDDD MM SS.SSS*
PRODUCTION_DATE 2000 5 24 yyyy mm dd*
RASTER_ORDER LEFT_RIGHT/TOP_BOTTOM video display order*
BAND_ORGANIZATION "SINGLE FILE" single file or BSQ, or BIL or BIP*
BAND_CONTENT BLACK&WHITE black&white or red green blue*
BITS_PER_PIXEL 8 radiometric resolution*
SAMPLES_AND_LINES 6308 7721 number of columns and rows*
HORIZONTAL_DATUM NAD83 primary horizontal datum*
HORIZONTAL_COORDINATE_SYSTEM UTM *
COORDINATE_ZONE 11 coordinate system zone number*
HORIZONTAL_UNITS METERS coordinate system units*
HORIZONTAL_RESOLUTION 1.00 pixel horiz. ground sample distance*
SECONDARY_HORIZONTAL_DATUM NAD27 secondary horizontal datum*
XY_ORIGIN 245897.000 4348934.000 coord. of upper left pixel pri. datum*
SECONDARY_XY_ORIGIN 245978.997 4348732.972 coord upper left pixel sec datum*
NATION US nation code*
STATE NV state fip code*
NW_QUAD_CORNER_XY 246511.892 4348633.294 XY coords. of pri. NW quad corner*
NE_QUAD_CORNER_XY 251906.176 4348460.025 XY coords. of pri. NE quad corner*
SE_QUAD_CORNER_XY 251685.878 4341522.305 XY coords. of pri. SE quad corner*
SW_QUAD_CORNER_XY 246286.793 4341695.497 XY coords. of pri. SW quad corner*
SECONDARY_NW_QUAD_XY 246505.351 4348424.899 XY coords. - sec. NW quad cor.*
SECONDARY_NE_QUAD_XY 251899.775 4348251.625 XY coords. - sec. NE quad cor.*
SECONDARY_SE_QUAD_XY 251679.481 4341314.038 XY coords. - sec. SE quad cor.*
SECONDARY_SW_QUAD_XY 246280.258 4341487.234 XY coords. - sec. SW quad cor.*
RMSE_XY 1.70 doq horiz. accuracy*
IMAGE_SOURCE "BLACK AND WHITE FILM" b&w, cir, natural color, other*
SOURCE_IMAGE_ID "NAPP 10568 38" source image id*
SOURCE_IMAGE_DATE 1999 8 01 source image date as yyyy mm dd*
SOURCE_DEM_DATE 1992 0 00 source dem date yyyy mm dd*
AGENCY "WESTERN MAPPING CENTER (WMC)" oversight agency*
PRODUCER "WESTERN MAPPING CENTER (WMC)" *
PRODUCTION_SYSTEM "DV2.6.3 10/9OV2.4 5/95" production system*
STANDARD_VERSION 1996 12 version of DOQ standard*
METADATA_DATE 2000 5 24 date created or changed, yyyy mm dd*
DATA_FILE_SIZE 48710376 data set size in bytes*
BYTE_COUNT 6308 header byte count* * * * * * * * * * * * * * * * * * * * * * * * * * * * * * * * * * * *
END_USGS_HEADER *
