BEGIN_USGS_DOQ_HEADER *
QUADRANGLE_NAME "MARLETTE LAKE" 3.45 or 7.5-min. name*
QUADRANT NW quadrant indicator if cell size = 3.75-minutes*
WEST_LONGITUDE -120 0 0.000 signed deg min sec SDDD MM SS.SSS*
EAST_LONGITUDE -119 56 15.000 signed deg min sec SDDD MM SS.SSS*
NORTH_LATITUDE 39 15 0.000 signed deg min sec SDDD MM SS.SSS*
SOUTH_LATITUDE 39 11 15.000 signed deg min sec SDDD MM SS.SSS*
PRODUCTION_DATE 2000 4 25 yyyy mm dd*
RASTER_ORDER LEFT_RIGHT/TOP_BOTTOM video display order*
BAND_ORGANIZATION "SINGLE FILE" single file or BSQ, or BIL or BIP*
BAND_CONTENT BLACK&WHITE black&white or red green blue*
BITS_PER_PIXEL 8 radiometric resolution*
SAMPLES_AND_LINES 6316 7725 number of columns and rows*
HORIZONTAL_DATUM NAD83 primary horizontal datum*
HORIZONTAL_COORDINATE_SYSTEM UTM *
COORDINATE_ZONE 11 coordinate system zone number*
HORIZONTAL_UNITS METERS coordinate system units*
HORIZONTAL_RESOLUTION 1.00 pixel horiz. ground sample distance*
SECONDARY_HORIZONTAL_DATUM NAD27 secondary horizontal datum*
XY_ORIGIN 240498.000 4349111.000 coord. of upper left pixel pri. datum*
SECONDARY_XY_ORIGIN 240580.044 4348910.007 coord upper left pixel sec datum*
NATION US nation code*
STATE NV state fip code*
NW_QUAD_CORNER_XY 241117.547 4348810.298 XY coords. of pri. NW quad corner*
NE_QUAD_CORNER_XY 246511.892 4348633.294 XY coords. of pri. NE quad corner*
SE_QUAD_CORNER_XY 246286.793 4341695.497 XY coords. of pri. SE quad corner*
SW_QUAD_CORNER_XY 240887.648 4341872.422 XY coords. of pri. SW quad corner*
SECONDARY_NW_QUAD_XY 241110.867 4348601.907 XY coords. - sec. NW quad cor.*
SECONDARY_NE_QUAD_XY 246505.351 4348424.899 XY coords. - sec. NE quad cor.*
SECONDARY_SE_QUAD_XY 246280.258 4341487.234 XY coords. - sec. SE quad cor.*
SECONDARY_SW_QUAD_XY 240880.973 4341664.164 XY coords. - sec. SW quad cor.*
RMSE_XY 2.40 doq horiz. accuracy*
IMAGE_SOURCE "BLACK AND WHITE FILM" b&w, cir, natural color, other*
SOURCE_IMAGE_ID "NAPP 10554 77" source image id*
SOURCE_IMAGE_DATE 1998 8 25 source image date as yyyy mm dd*
SOURCE_DEM_DATE 1992 0 00 source dem date yyyy mm dd*
AGENCY "WESTERN MAPPING CENTER (WMC)" oversight agency*
PRODUCER "WESTERN MAPPING CENTER (WMC)" *
PRODUCTION_SYSTEM "DV2.6.3 10/9OV2.4 5/95" production system*
STANDARD_VERSION 1996 12 version of DOQ standard*
METADATA_DATE 2000 4 25 date created or changed, yyyy mm dd*
DATA_FILE_SIZE 48797416 data set size in bytes*
BYTE_COUNT 6316 header byte count* * * * * * * * * * * * * * * * * * * * * * * * * * * * * * * * * * * *
END_USGS_HEADER *
