BEGIN_USGS_DOQ_HEADER *
QUADRANGLE_NAME "MOUNT ROSE NE" *
QUADRANT NE *
WEST_LONGITUDE -119 48 45.000 *
EAST_LONGITUDE -119 45 0.000 *
NORTH_LATITUDE 39 30 0.000 *
SOUTH_LATITUDE 39 26 15.000 *
PRODUCTION_DATE 2003 1 28 *
RASTER_ORDER LEFT_RIGHT/TOP_BOTTOM *
BAND_ORGANIZATION "SINGLE FILE" *
BAND_CONTENT BLACK&WHITE *
BITS_PER_PIXEL 8 *
SAMPLES_AND_LINES 6280 7711 *
HORIZONTAL_DATUM NAD83 *
HORIZONTAL_COORDINATE_SYSTEM UTM *
COORDINATE_ZONE 11 *
HORIZONTAL_UNITS METERS *
HORIZONTAL_RESOLUTION 1.0 *
SECONDARY_HORIZONTAL_DATUM NAD27 *
XY_ORIGIN 257560.268 4376341.635 *
SECONDARY_XY_ORIGIN 257642.444 4376139.828 *
NATION US *
STATE NV *
NW_QUAD_CORNER_XY 258165.291 4376041.635 *
NE_QUAD_CORNER_XY 263540.199 4375875.545 *
SE_QUAD_CORNER_XY 263328.367 4368937.745 *
SW_QUAD_CORNER_XY 257948.635 4369103.764 *
SECONDARY_NW_QUAD_XY 258159.017 4375832.707 *
SECONDARY_NE_QUAD_XY 263534.065 4375666.613 *
SECONDARY_SE_QUAD_XY 263322.237 4368728.943 *
SECONDARY_SW_QUAD_XY 257942.364 4368894.966 *
RMSE_XY 1.48 *
IMAGE_SOURCE "BLACK AND WHITE FILM" *
SOURCE_IMAGE_ID "NAPP 11547 33" *
SOURCE_IMAGE_DATE 1999 9 6 *
SOURCE_IMAGE_ID "NAPP 11547 34" *
SOURCE_IMAGE_DATE 1999 9 6 *
SOURCE_IMAGE_ID "NAPP 11547 32" *
SOURCE_IMAGE_DATE 1999 9 6 *
SOURCE_IMAGE_ID "NAPP 11553 120" *
SOURCE_IMAGE_DATE 1999 9 11 *
SOURCE_IMAGE_ID "NAPP 11553 119" *
SOURCE_IMAGE_DATE 1999 9 11 *
SOURCE_IMAGE_ID "NAPP 11553 118" *
SOURCE_IMAGE_DATE 1999 9 11 *
SOURCE_IMAGE_ID "NAPP 11547 67" *
SOURCE_IMAGE_DATE 1999 9 6 *
SOURCE_IMAGE_ID "NAPP 11547 68" *
SOURCE_IMAGE_DATE 1999 9 6 *
SOURCE_IMAGE_ID "NAPP 11547 69" *
SOURCE_IMAGE_DATE 1999 9 6 *
SOURCE_DEM_DATE 2003 1 1 *
AGENCY "WESTERN MAPPING CENTER (WMC)" *
PRODUCER "USDA FS GEOSPATIAL SERVICE AND TECHNOLOGY CENTER" *
PRODUCTION_SYSTEM "ORBIT OR_RECTIFY V.5.2" *
STANDARD_VERSION 1996 12 *
METADATA_DATE 2003 3 6 *
DATA_FILE_SIZE 48431360 *
BYTE_COUNT 6280 * * * * * * * * * * * * * * * * * * * *
END_USGS_HEADER *
