BEGIN_USGS_DOQ_HEADER *
QUADRANGLE_NAME "MOUNT ROSE NW" *
QUADRANT NW *
WEST_LONGITUDE -120 0 0.000 *
EAST_LONGITUDE -119 56 15.000 *
NORTH_LATITUDE 39 30 0.000 *
SOUTH_LATITUDE 39 26 15.000 *
PRODUCTION_DATE 2003 1 28 *
RASTER_ORDER LEFT_RIGHT/TOP_BOTTOM *
BAND_ORGANIZATION "SINGLE FILE" *
BAND_CONTENT BLACK&WHITE *
BITS_PER_PIXEL 8 *
SAMPLES_AND_LINES 6295 7722 *
HORIZONTAL_DATUM NAD83 *
HORIZONTAL_COORDINATE_SYSTEM UTM *
COORDINATE_ZONE 11 *
HORIZONTAL_UNITS METERS *
HORIZONTAL_RESOLUTION 1.0 *
SECONDARY_HORIZONTAL_DATUM NAD27 *
XY_ORIGIN 241419.959 4376862.348 *
SECONDARY_XY_ORIGIN 241502.526 4376660.524 *
NATION US *
STATE NV *
NW_QUAD_CORNER_XY 242040.228 4376562.348 *
NE_QUAD_CORNER_XY 247415.306 4376385.036 *
SE_QUAD_CORNER_XY 247189.000 4369447.018 *
SW_QUAD_CORNER_XY 241809.095 4369624.254 *
SECONDARY_NW_QUAD_XY 242033.532 4376353.434 *
SECONDARY_NE_QUAD_XY 247408.753 4376176.117 *
SECONDARY_SE_QUAD_XY 247182.450 4369238.229 *
SECONDARY_SW_QUAD_XY 241802.404 4369415.470 *
RMSE_XY 1.48 *
IMAGE_SOURCE "BLACK AND WHITE FILM" *
SOURCE_IMAGE_ID "NAPP 11553 45" *
SOURCE_IMAGE_DATE 1999 9 11 *
SOURCE_IMAGE_ID "NAPP 11553 46" *
SOURCE_IMAGE_DATE 1999 9 11 *
SOURCE_IMAGE_ID "NAPP 11553 44" *
SOURCE_IMAGE_DATE 1999 9 11 *
SOURCE_IMAGE_ID "NAPP 11553 85" *
SOURCE_IMAGE_DATE 1999 9 11 *
SOURCE_IMAGE_ID "NAPP 11553 86" *
SOURCE_IMAGE_DATE 1999 9 11 *
SOURCE_IMAGE_ID "NAPP 11553 88" *
SOURCE_IMAGE_DATE 1999 9 11 *
SOURCE_DEM_DATE 2003 1 1 *
AGENCY "WESTERN MAPPING CENTER (WMC)" *
PRODUCER "USDA FS GEOSPATIAL SERVICE AND TECHNOLOGY CENTER" *
PRODUCTION_SYSTEM "ORBIT OR_RECTIFY V.5.2" *
STANDARD_VERSION 1996 12 *
METADATA_DATE 2003 3 6 *
DATA_FILE_SIZE 48616285 *
BYTE_COUNT 6295 * * * * * * * * * * * * * * * * * * * * * * * * * *
END_USGS_HEADER *
