BEGIN_USGS_DOQ_HEADER *
QUADRANGLE_NAME "MOUNT ROSE NW" *
QUADRANT SE *
WEST_LONGITUDE -119 56 15.000 *
EAST_LONGITUDE -119 52 30.000 *
NORTH_LATITUDE 39 26 15.000 *
SOUTH_LATITUDE 39 22 30.000 *
PRODUCTION_DATE 2003 1 28 *
RASTER_ORDER LEFT_RIGHT/TOP_BOTTOM *
BAND_ORGANIZATION "SINGLE FILE" *
BAND_CONTENT BLACK&WHITE *
BITS_PER_PIXEL 8 *
SAMPLES_AND_LINES 6295 7719 *
HORIZONTAL_DATUM NAD83 *
HORIZONTAL_COORDINATE_SYSTEM UTM *
COORDINATE_ZONE 11 *
HORIZONTAL_UNITS METERS *
HORIZONTAL_RESOLUTION 1.0 *
SECONDARY_HORIZONTAL_DATUM NAD27 *
XY_ORIGIN 246574.232 4369747.018 *
SECONDARY_XY_ORIGIN 246656.579 4369545.389 *
NATION US *
STATE NV *
NW_QUAD_CORNER_XY 247189.000 4369447.018 *
NE_QUAD_CORNER_XY 252568.846 4369273.521 *
SE_QUAD_CORNER_XY 252347.660 4362335.633 *
SW_QUAD_CORNER_XY 246962.995 4362509.055 *
SECONDARY_NW_QUAD_XY 247182.450 4369238.229 *
SECONDARY_NE_QUAD_XY 252562.436 4369064.728 *
SECONDARY_SE_QUAD_XY 252341.254 4362126.971 *
SECONDARY_SW_QUAD_XY 246956.449 4362300.397 *
RMSE_XY 1.48 *
IMAGE_SOURCE "BLACK AND WHITE FILM" *
SOURCE_IMAGE_ID "NAPP 11553 84" *
SOURCE_IMAGE_DATE 1999 9 11 *
SOURCE_IMAGE_ID "NAPP 11553 83" *
SOURCE_IMAGE_DATE 1999 9 11 *
SOURCE_IMAGE_ID "NAPP 11553 85" *
SOURCE_IMAGE_DATE 1999 9 11 *
SOURCE_IMAGE_ID "NAPP 11553 48" *
SOURCE_IMAGE_DATE 1999 9 11 *
SOURCE_IMAGE_ID "NAPP 11553 47" *
SOURCE_IMAGE_DATE 1999 9 11 *
SOURCE_IMAGE_ID "NAPP 11553 46" *
SOURCE_IMAGE_DATE 1999 9 11 *
SOURCE_IMAGE_ID "NAPP 11553 66" *
SOURCE_IMAGE_DATE 1999 9 11 *
SOURCE_IMAGE_ID "NAPP 11553 121" *
SOURCE_IMAGE_DATE 1999 9 11 *
SOURCE_IMAGE_ID "NAPP 11553 120" *
SOURCE_IMAGE_DATE 1999 9 11 *
SOURCE_DEM_DATE 2003 1 1 *
AGENCY "WESTERN MAPPING CENTER (WMC)" *
PRODUCER "USDA FS GEOSPATIAL SERVICE AND TECHNOLOGY CENTER" *
PRODUCTION_SYSTEM "ORBIT OR_RECTIFY V.5.2" *
STANDARD_VERSION 1996 12 *
METADATA_DATE 2003 3 6 *
DATA_FILE_SIZE 48597400 *
BYTE_COUNT 6295 * * * * * * * * * * * * * * * * * * * *
END_USGS_HEADER *
