BEGIN_USGS_DOQ_HEADER *
QUADRANGLE_NAME "RENO" *
QUADRANT NE *
WEST_LONGITUDE -119 48 45.000 *
EAST_LONGITUDE -119 45 0.000 *
NORTH_LATITUDE 39 37 30.000 *
SOUTH_LATITUDE 39 33 45.000 *
PRODUCTION_DATE 2003 1 28 *
RASTER_ORDER LEFT_RIGHT/TOP_BOTTOM *
BAND_ORGANIZATION "SINGLE FILE" *
BAND_CONTENT BLACK&WHITE *
BITS_PER_PIXEL 8 *
SAMPLES_AND_LINES 6271 7711 *
HORIZONTAL_DATUM NAD83 *
HORIZONTAL_COORDINATE_SYSTEM UTM *
COORDINATE_ZONE 11 *
HORIZONTAL_UNITS METERS *
HORIZONTAL_RESOLUTION 1.0 *
SECONDARY_HORIZONTAL_DATUM NAD27 *
XY_ORIGIN 257993.855 4390217.548 *
SECONDARY_XY_ORIGIN 258075.901 4390015.609 *
NATION US *
STATE NV *
NW_QUAD_CORNER_XY 258599.468 4389917.548 *
NE_QUAD_CORNER_XY 263964.709 4389751.319 *
SE_QUAD_CORNER_XY 263752.313 4382813.403 *
SW_QUAD_CORNER_XY 258382.235 4382979.563 *
SECONDARY_NW_QUAD_XY 258593.186 4389708.363 *
SECONDARY_NE_QUAD_XY 263958.567 4389542.129 *
SECONDARY_SE_QUAD_XY 263746.175 4382604.342 *
SECONDARY_SW_QUAD_XY 258375.957 4382770.506 *
RMSE_XY 1.48 *
IMAGE_SOURCE "BLACK AND WHITE FILM" *
SOURCE_IMAGE_ID "NAPP 11547 29" *
SOURCE_IMAGE_DATE 1999 9 6 *
SOURCE_IMAGE_ID "NAPP 11547 30" *
SOURCE_IMAGE_DATE 1999 9 6 *
SOURCE_IMAGE_ID "NAPP 11547 28" *
SOURCE_IMAGE_DATE 1999 9 6 *
SOURCE_IMAGE_ID "NAPP 11553 116" *
SOURCE_IMAGE_DATE 1999 9 11 *
SOURCE_IMAGE_ID "NAPP 11553 115" *
SOURCE_IMAGE_DATE 1999 9 11 *
SOURCE_IMAGE_ID "NAPP 11553 114" *
SOURCE_IMAGE_DATE 1999 9 11 *
SOURCE_DEM_DATE 2003 1 1 *
AGENCY "WESTERN MAPPING CENTER (WMC)" *
PRODUCER "USDA FS GEOSPATIAL SERVICE AND TECHNOLOGY CENTER" *
PRODUCTION_SYSTEM "ORBIT OR_RECTIFY V.5.2" *
STANDARD_VERSION 1996 12 *
METADATA_DATE 2003 3 6 *
DATA_FILE_SIZE 48361952 *
BYTE_COUNT 6271 * * * * * * * * * * * * * * * * * * * * * * * * * *
END_USGS_HEADER *
