BEGIN_USGS_DOQ_HEADER *
QUADRANGLE_NAME "VERDI" *
QUADRANT SW *
WEST_LONGITUDE -120 0 0.000 *
EAST_LONGITUDE -119 56 15.000 *
NORTH_LATITUDE 39 33 45.000 *
SOUTH_LATITUDE 39 30 0.000 *
PRODUCTION_DATE 2003 1 28 *
RASTER_ORDER LEFT_RIGHT/TOP_BOTTOM *
BAND_ORGANIZATION "SINGLE FILE" *
BAND_CONTENT BLACK&WHITE *
BITS_PER_PIXEL 8 *
SAMPLES_AND_LINES 6291 7723 *
HORIZONTAL_DATUM NAD83 *
HORIZONTAL_COORDINATE_SYSTEM UTM *
COORDINATE_ZONE 11 *
HORIZONTAL_UNITS METERS *
HORIZONTAL_RESOLUTION 1.0 *
SECONDARY_HORIZONTAL_DATUM NAD27 *
XY_ORIGIN 241650.953 4383800.496 *
SECONDARY_XY_ORIGIN 241733.414 4383598.598 *
NATION US *
STATE NV *
NW_QUAD_CORNER_XY 242271.669 4383500.496 *
NE_QUAD_CORNER_XY 247641.914 4383323.109 *
SE_QUAD_CORNER_XY 247415.306 4376385.036 *
SW_QUAD_CORNER_XY 242040.228 4376562.348 *
SECONDARY_NW_QUAD_XY 242264.969 4383291.453 *
SECONDARY_NE_QUAD_XY 247635.357 4383114.061 *
SECONDARY_SE_QUAD_XY 247408.753 4376176.117 *
SECONDARY_SW_QUAD_XY 242033.532 4376353.434 *
RMSE_XY 1.48 *
IMAGE_SOURCE "BLACK AND WHITE FILM" *
SOURCE_IMAGE_ID "NAPP 11547 16" *
SOURCE_IMAGE_DATE 1999 9 6 *
SOURCE_IMAGE_ID "NAPP 11553 44" *
SOURCE_IMAGE_DATE 1999 9 11 *
SOURCE_IMAGE_ID "NAPP 11547 17" *
SOURCE_IMAGE_DATE 1999 9 6 *
SOURCE_IMAGE_ID "NAPP 11553 88" *
SOURCE_IMAGE_DATE 1999 9 11 *
SOURCE_IMAGE_ID "NAPP 11553 89" *
SOURCE_IMAGE_DATE 1999 9 11 *
SOURCE_IMAGE_ID "NAPP 11553 90" *
SOURCE_IMAGE_DATE 1999 9 11 *
SOURCE_DEM_DATE 2003 1 1 *
AGENCY "WESTERN MAPPING CENTER (WMC)" *
PRODUCER "USDA FS GEOSPATIAL SERVICE AND TECHNOLOGY CENTER" *
PRODUCTION_SYSTEM "ORBIT OR_RECTIFY V.5.2" *
STANDARD_VERSION 1996 12 *
METADATA_DATE 2003 3 6 *
DATA_FILE_SIZE 48591684 *
BYTE_COUNT 6291 * * * * * * * * * * * * * * * * * * * * * * * * * *
END_USGS_HEADER *
