BEGIN_USGS_DOQ_HEADER *
QUADRANGLE_NAME "RENO NE" 3.45 or 7.5-min. name*
QUADRANT SE quadrant indicator if cell size = 3.75-minutes*
WEST_LONGITUDE -119 48 45.000 signed deg min sec SDDD MM SS.SSS*
EAST_LONGITUDE -119 45 0.000 signed deg min sec SDDD MM SS.SSS*
NORTH_LATITUDE 39 41 15.000 signed deg min sec SDDD MM SS.SSS*
SOUTH_LATITUDE 39 37 30.000 signed deg min sec SDDD MM SS.SSS*
PRODUCTION_DATE 2002 3 28 yyyy mm dd*
RASTER_ORDER LEFT_RIGHT/TOP_BOTTOM video display order*
BAND_ORGANIZATION "SINGLE FILE" single file or BSQ, or BIL or BIP*
BAND_CONTENT BLACK&WHITE black&white or red green blue*
BITS_PER_PIXEL 8 radiometric resolution*
SAMPLES_AND_LINES 6269 7715 number of columns and rows*
HORIZONTAL_DATUM NAD83 primary horizontal datum*
HORIZONTAL_COORDINATE_SYSTEM UTM *
COORDINATE_ZONE 11 coordinate system zone number*
HORIZONTAL_UNITS METERS coordinate system units*
HORIZONTAL_RESOLUTION 1.00 pixel horiz. ground sample distance*
SECONDARY_HORIZONTAL_DATUM NAD27 secondary horizontal datum*
XY_ORIGIN 258210.000 4397157.000 coord. of upper left pixel pri. datum*
SECONDARY_XY_ORIGIN 258292.000 4396955.000 coord upper left pixel sec datum*
NATION US nation code*
STATE NV state fip code*
NW_QUAD_CORNER_XY 258816.989 4396855.590 XY coords. of pri. NW quad corner*
NE_QUAD_CORNER_XY 264177.387 4396689.292 XY coords. of pri. NE quad corner*
SE_QUAD_CORNER_XY 263964.709 4389751.319 XY coords. of pri. SE quad corner*
SW_QUAD_CORNER_XY 258599.468 4389917.548 XY coords. of pri. SW quad corner*
SECONDARY_NW_QUAD_XY 258810.700 4396646.277 XY coords. - sec. NW quad cor.*
SECONDARY_NE_QUAD_XY 264171.237 4396479.974 XY coords. - sec. NE quad cor.*
SECONDARY_SE_QUAD_XY 263958.563 4389542.128 XY coords. - sec. SE quad cor.*
SECONDARY_SW_QUAD_XY 258593.182 4389708.362 XY coords. - sec. SW quad cor.*
RMSE_XY 2.10 doq horiz. accuracy*
IMAGE_SOURCE "BLACK AND WHITE FILM" b&w, cir, natural color, other*
SOURCE_IMAGE_ID "NAPP 11547 27" source image id*
SOURCE_IMAGE_DATE 1999 9 6 source image date as yyyy mm dd*
SOURCE_DEM_DATE 1966 1 1 source dem date yyyy mm dd*
AGENCY "WESTERN MAPPING CENTER (WMC)" oversight agency*
PRODUCER "WESTERN MAPPING CENTER (WMC)" *
PRODUCTION_SYSTEM "DV2.6.4 1/00 OV2.6 6/00" production system*
STANDARD_VERSION 1996 12 version of DOQ standard*
METADATA_DATE 2002 3 28 date created or changed, yyyy mm dd*
DATA_FILE_SIZE 48371604 data set size in bytes*
BYTE_COUNT 6269 header byte count* * * * * * * * * * * * * * * * * * * * * * * * * * * * * * * * * * * *
END_USGS_HEADER *
