BEGIN_USGS_DOQ_HEADER *
QUADRANGLE_NAME "RENO NW" *
QUADRANT NE *
WEST_LONGITUDE -119 56 15.000 *
EAST_LONGITUDE -119 52 30.000 *
NORTH_LATITUDE 39 45 0.000 *
SOUTH_LATITUDE 39 41 15.000 *
PRODUCTION_DATE 2003 1 28 *
RASTER_ORDER LEFT_RIGHT/TOP_BOTTOM *
BAND_ORGANIZATION "SINGLE FILE" *
BAND_CONTENT BLACK&WHITE *
BITS_PER_PIXEL 8 *
SAMPLES_AND_LINES 6272 7719 *
HORIZONTAL_DATUM NAD83 *
HORIZONTAL_COORDINATE_SYSTEM UTM *
COORDINATE_ZONE 11 *
HORIZONTAL_UNITS METERS *
HORIZONTAL_RESOLUTION 1.0 *
SECONDARY_HORIZONTAL_DATUM NAD27 *
XY_ORIGIN 247707.306 4404437.660 *
SECONDARY_XY_ORIGIN 247789.380 4404235.559 *
NATION US *
STATE NV *
NW_QUAD_CORNER_XY 248323.545 4404137.660 *
NE_QUAD_CORNER_XY 253679.199 4403963.801 *
SE_QUAD_CORNER_XY 253456.539 4397025.633 *
SW_QUAD_CORNER_XY 248096.034 4397199.421 *
SECONDARY_NW_QUAD_XY 248316.974 4403928.230 *
SECONDARY_NE_QUAD_XY 253672.768 4403754.366 *
SECONDARY_SE_QUAD_XY 253450.113 4396816.325 *
SECONDARY_SW_QUAD_XY 248089.468 4396990.117 *
RMSE_XY 1.48 *
IMAGE_SOURCE "BLACK AND WHITE FILM" *
SOURCE_IMAGE_ID "NAPP 11553 95" *
SOURCE_IMAGE_DATE 1999 9 11 *
SOURCE_IMAGE_ID "NAPP 11553 94" *
SOURCE_IMAGE_DATE 1999 9 11 *
SOURCE_IMAGE_ID "NAPP 11553 96" *
SOURCE_IMAGE_DATE 1999 9 11 *
SOURCE_IMAGE_ID "NAPP 11547 21" *
SOURCE_IMAGE_DATE 1999 9 6 *
SOURCE_IMAGE_ID "NAPP 11547 22" *
SOURCE_IMAGE_DATE 1999 9 6 *
SOURCE_IMAGE_ID "NAPP 11547 23" *
SOURCE_IMAGE_DATE 1999 9 6 *
SOURCE_DEM_DATE 2003 1 1 *
AGENCY "WESTERN MAPPING CENTER (WMC)" *
PRODUCER "USDA FS GEOSPATIAL SERVICE AND TECHNOLOGY CENTER" *
PRODUCTION_SYSTEM "ORBIT OR_RECTIFY V.5.2" *
STANDARD_VERSION 1996 12 *
METADATA_DATE 2003 3 6 *
DATA_FILE_SIZE 48419840 *
BYTE_COUNT 6272 * * * * * * * * * * * * * * * * * * * * * * * * * *
END_USGS_HEADER *
