BEGIN_USGS_DOQ_HEADER *
QUADRANGLE_NAME "RENO NW" *
QUADRANT NW *
WEST_LONGITUDE -120 0 0.000 *
EAST_LONGITUDE -119 56 15.000 *
NORTH_LATITUDE 39 45 0.000 *
SOUTH_LATITUDE 39 41 15.000 *
PRODUCTION_DATE 2003 1 28 *
RASTER_ORDER LEFT_RIGHT/TOP_BOTTOM *
BAND_ORGANIZATION "SINGLE FILE" *
BAND_CONTENT BLACK&WHITE *
BITS_PER_PIXEL 8 *
SAMPLES_AND_LINES 6277 7723 *
HORIZONTAL_DATUM NAD83 *
HORIZONTAL_COORDINATE_SYSTEM UTM *
COORDINATE_ZONE 11 *
HORIZONTAL_UNITS METERS *
HORIZONTAL_RESOLUTION 1.0 *
SECONDARY_HORIZONTAL_DATUM NAD27 *
XY_ORIGIN 242346.512 4404615.267 *
SECONDARY_XY_ORIGIN 242428.657 4404413.154 *
NATION US *
STATE NV *
NW_QUAD_CORNER_XY 242967.836 4404315.267 *
NE_QUAD_CORNER_XY 248323.545 4404137.660 *
SE_QUAD_CORNER_XY 248096.034 4397199.421 *
SW_QUAD_CORNER_XY 242735.473 4397376.955 *
SECONDARY_NW_QUAD_XY 242961.124 4404105.841 *
SECONDARY_NE_QUAD_XY 248316.974 4403928.230 *
SECONDARY_SE_QUAD_XY 248089.468 4396990.117 *
SECONDARY_SW_QUAD_XY 242728.765 4397167.657 *
RMSE_XY 1.48 *
IMAGE_SOURCE "BLACK AND WHITE FILM" *
SOURCE_IMAGE_ID "NAPP 11547 22" *
SOURCE_IMAGE_DATE 1999 9 6 *
SOURCE_IMAGE_ID "NAPP 11547 21" *
SOURCE_IMAGE_DATE 1999 9 6 *
SOURCE_IMAGE_ID "NAPP 11547 23" *
SOURCE_IMAGE_DATE 1999 9 6 *
SOURCE_IMAGE_ID "NAPP 11553 94" *
SOURCE_IMAGE_DATE 1999 9 11 *
SOURCE_IMAGE_ID "NAPP 11553 95" *
SOURCE_IMAGE_DATE 1999 9 11 *
SOURCE_IMAGE_ID "NAPP 11553 96" *
SOURCE_IMAGE_DATE 1999 9 11 *
SOURCE_DEM_DATE 2003 1 1 *
AGENCY "WESTERN MAPPING CENTER (WMC)" *
PRODUCER "USDA FS GEOSPATIAL SERVICE AND TECHNOLOGY CENTER" *
PRODUCTION_SYSTEM "ORBIT OR_RECTIFY V.5.2" *
STANDARD_VERSION 1996 12 *
METADATA_DATE 2003 3 6 *
DATA_FILE_SIZE 48483548 *
BYTE_COUNT 6277 * * * * * * * * * * * * * * * * * * * * * * * * * *
END_USGS_HEADER *
