BEGIN_USGS_DOQ_HEADER *
QUADRANGLE_NAME "BEDELL FLAT" 3.45 or 7.5-min. name*
QUADRANT SE quadrant indicator if cell size = 3.75-minutes*
WEST_LONGITUDE -119 48 45.000 signed deg min sec SDDD MM SS.SSS*
EAST_LONGITUDE -119 45 0.000 signed deg min sec SDDD MM SS.SSS*
NORTH_LATITUDE 39 48 45.000 signed deg min sec SDDD MM SS.SSS*
SOUTH_LATITUDE 39 45 0.000 signed deg min sec SDDD MM SS.SSS*
PRODUCTION_DATE 2002 3 28 yyyy mm dd*
RASTER_ORDER LEFT_RIGHT/TOP_BOTTOM video display order*
BAND_ORGANIZATION "SINGLE FILE" single file or BSQ, or BIL or BIP*
BAND_CONTENT BLACK&WHITE black&white or red green blue*
BITS_PER_PIXEL 8 radiometric resolution*
SAMPLES_AND_LINES 6260 7715 number of columns and rows*
HORIZONTAL_DATUM NAD83 primary horizontal datum*
HORIZONTAL_COORDINATE_SYSTEM UTM *
COORDINATE_ZONE 11 coordinate system zone number*
HORIZONTAL_UNITS METERS coordinate system units*
HORIZONTAL_RESOLUTION 1.00 pixel horiz. ground sample distance*
SECONDARY_HORIZONTAL_DATUM NAD27 secondary horizontal datum*
XY_ORIGIN 258646.000 4411033.000 coord. of upper left pixel pri. datum*
SECONDARY_XY_ORIGIN 258728.000 4410831.000 coord upper left pixel sec datum*
NATION US nation code*
STATE NV state fip code*
NW_QUAD_CORNER_XY 259252.895 4410731.845 XY coords. of pri. NW quad corner*
NE_QUAD_CORNER_XY 264603.587 4410565.412 XY coords. of pri. NE quad corner*
SE_QUAD_CORNER_XY 264390.346 4403627.323 XY coords. of pri. SE quad corner*
SW_QUAD_CORNER_XY 259034.799 4403793.689 XY coords. of pri. SW quad corner*
SECONDARY_NW_QUAD_XY 259246.598 4410522.279 XY coords. - sec. NW quad cor.*
SECONDARY_NE_QUAD_XY 264597.429 4410355.841 XY coords. - sec. NE quad cor.*
SECONDARY_SE_QUAD_XY 264384.192 4403417.879 XY coords. - sec. SE quad cor.*
SECONDARY_SW_QUAD_XY 259028.505 4403584.249 XY coords. - sec. SW quad cor.*
RMSE_XY 2.20 doq horiz. accuracy*
IMAGE_SOURCE "BLACK AND WHITE FILM" b&w, cir, natural color, other*
SOURCE_IMAGE_ID "NAPP 11553 104" source image id*
SOURCE_IMAGE_DATE 1999 9 11 source image date as yyyy mm dd*
SOURCE_DEM_DATE 1975 1 1 source dem date yyyy mm dd*
AGENCY "WESTERN MAPPING CENTER (WMC)" oversight agency*
PRODUCER "WESTERN MAPPING CENTER (WMC)" *
PRODUCTION_SYSTEM "DV2.6.4 1/00 OV2.6 6/00" production system*
STANDARD_VERSION 1996 12 version of DOQ standard*
METADATA_DATE 2002 3 28 date created or changed, yyyy mm dd*
DATA_FILE_SIZE 48302160 data set size in bytes*
BYTE_COUNT 6260 header byte count* * * * * * * * * * * * * * * * * * * * * * * * * * * * * * * * * * * *
END_USGS_HEADER *
