BEGIN_USGS_DOQ_HEADER *
QUADRANGLE_NAME "GRANITE PEAK" 3.45 or 7.5-min. name*
QUADRANT SW quadrant indicator if cell size = 3.75-minutes*
WEST_LONGITUDE -120 0 0.000 signed deg min sec SDDD MM SS.SSS*
EAST_LONGITUDE -119 56 15.000 signed deg min sec SDDD MM SS.SSS*
NORTH_LATITUDE 39 48 45.000 signed deg min sec SDDD MM SS.SSS*
SOUTH_LATITUDE 39 45 0.000 signed deg min sec SDDD MM SS.SSS*
PRODUCTION_DATE 1996 12 6 yyyy mm dd*
RASTER_ORDER LEFT_RIGHT/TOP_BOTTOM video display order*
BAND_ORGANIZATION "SINGLE FILE" single file or BSQ, or BIL or BIP*
BAND_CONTENT BLACK&WHITE black&white or red green blue*
BITS_PER_PIXEL 8 radiometric resolution*
SAMPLES_AND_LINES 6272 7723 number of columns and rows*
HORIZONTAL_DATUM NAD83 primary horizontal datum*
HORIZONTAL_COORDINATE_SYSTEM UTM *
COORDINATE_ZONE 11 coordinate system zone number*
HORIZONTAL_UNITS METERS coordinate system units*
HORIZONTAL_RESOLUTION 1.00 pixel horiz. ground sample distance*
SECONDARY_HORIZONTAL_DATUM NAD27 secondary horizontal datum*
XY_ORIGIN 242579.479 4411553.133 coord. of upper left pixel pri. datum*
SECONDARY_XY_ORIGIN 242661.590 4411350.962 coord upper left pixel sec datum*
NATION US nation code*
STATE NV state fip code*
STATE CA state fip code*
NW_QUAD_CORNER_XY 243200.505 4411253.633 XY coords. of pri. NW quad corner*
NE_QUAD_CORNER_XY 248551.356 4411075.955 XY coords. of pri. NE quad corner*
SE_QUAD_CORNER_XY 248323.545 4404137.660 XY coords. of pri. SE quad corner*
SW_QUAD_CORNER_XY 242967.836 4404315.267 XY coords. of pri. SW quad corner*
SECONDARY_NW_QUAD_XY 243193.787 4411044.080 XY coords. - sec. NW quad cor.*
SECONDARY_NE_QUAD_XY 248544.778 4410866.397 XY coords. - sec. NE quad cor.*
SECONDARY_SE_QUAD_XY 248316.971 4403928.229 XY coords. - sec. SE quad cor.*
SECONDARY_SW_QUAD_XY 242961.122 4404105.840 XY coords. - sec. SW quad cor.*
RMSE_XY 1.10 doq horiz. accuracy*
IMAGE_SOURCE "BLACK AND WHITE FILM" b&w, cir, natural color, other*
SOURCE_IMAGE_ID "NAPP 6202 153" source image id*
SOURCE_IMAGE_DATE 1993 7 8 source image date as yyyy mm dd*
SOURCE_DEM_DATE 1996 12 6 source dem date yyyy mm dd*
AGENCY "WESTERN MAPPING CENTER (WMC)" oversight agency*
PRODUCER "Aerial Data Reduction Associates" producer/contractor*
PRODUCTION_SYSTEM "INTERGRAPH ISPM,ISIR" production system*
STANDARD_VERSION 1996 12 version of DOQ standard*
METADATA_DATE 1998 11 4 date created or changed, yyyy mm dd*
DATA_FILE_SIZE 48444928 data set size in bytes*
BYTE_COUNT 6272 header byte count* * * * * * * * * * * * * * * * * * * * * * * * * * * * * * * * * * *
END_USGS_HEADER *
