BEGIN_USGS_DOQ_HEADER *
QUADRANGLE_NAME "DOGSKIN MOUNTAIN" 3.45 or 7.5-min. name*
QUADRANT SW quadrant indicator if cell size = 3.75-minutes*
WEST_LONGITUDE -119 52 30.000 signed deg min sec SDDD MM SS.SSS*
EAST_LONGITUDE -119 48 45.000 signed deg min sec SDDD MM SS.SSS*
NORTH_LATITUDE 39 56 15.000 signed deg min sec SDDD MM SS.SSS*
SOUTH_LATITUDE 39 52 30.000 signed deg min sec SDDD MM SS.SSS*
PRODUCTION_DATE 1999 11 19 yyyy mm dd*
RASTER_ORDER LEFT_RIGHT/TOP_BOTTOM video display order*
BAND_ORGANIZATION "SINGLE FILE" single file or BSQ, or BIL or BIP*
BAND_CONTENT BLACK&WHITE black&white or red green blue*
BITS_PER_PIXEL 8 radiometric resolution*
SAMPLES_AND_LINES 6255 7719 number of columns and rows*
HORIZONTAL_DATUM NAD83 primary horizontal datum*
HORIZONTAL_COORDINATE_SYSTEM UTM *
COORDINATE_ZONE 11 coordinate system zone number*
HORIZONTAL_UNITS METERS coordinate system units*
HORIZONTAL_RESOLUTION 1.00 pixel horiz. ground sample distance*
SECONDARY_HORIZONTAL_DATUM NAD27 secondary horizontal datum*
XY_ORIGIN 253736.000 4425079.000 coord. of upper left pixel pri. datum*
SECONDARY_XY_ORIGIN 253817.927 4424876.748 coord upper left pixel sec datum*
NATION US nation code*
STATE NV state fip code*
NW_QUAD_CORNER_XY 254348.941 4424778.642 XY coords. of pri. NW quad corner*
NE_QUAD_CORNER_XY 259689.951 4424608.327 XY coords. of pri. NE quad corner*
SE_QUAD_CORNER_XY 259471.279 4417670.057 XY coords. of pri. SE quad corner*
SW_QUAD_CORNER_XY 254125.400 4417840.305 XY coords. of pri. SW quad corner*
SECONDARY_NW_QUAD_XY 254342.495 4424568.831 XY coords. - sec. NW quad cor.*
SECONDARY_NE_QUAD_XY 259683.645 4424398.511 XY coords. - sec. NE quad cor.*
SECONDARY_SE_QUAD_XY 259464.978 4417460.366 XY coords. - sec. SE quad cor.*
SECONDARY_SW_QUAD_XY 254118.958 4417630.619 XY coords. - sec. SW quad cor.*
RMSE_XY 1.40 doq horiz. accuracy*
IMAGE_SOURCE "BLACK AND WHITE FILM" b&w, cir, natural color, other*
SOURCE_IMAGE_ID "NAPP 7377 260" source image id*
SOURCE_IMAGE_DATE 1994 06 18 source image date as yyyy mm dd*
IMAGE_SOURCE "BLACK AND WHITE FILM" b&w, cir, natural color, other*
SOURCE_IMAGE_ID "NAPP 6202 015" source image id*
SOURCE_IMAGE_DATE 1993 07 08 source image date as yyyy mm dd*
IMAGE_SOURCE "BLACK AND WHITE FILM" b&w, cir, natural color, other*
SOURCE_IMAGE_ID "NAPP 7377 261" source image id*
SOURCE_IMAGE_DATE 1994 06 18 source image date as yyyy mm dd*
IMAGE_SOURCE "BLACK AND WHITE FILM" b&w, cir, natural color, other*
SOURCE_IMAGE_ID "NAPP 7377 259" source image id*
SOURCE_IMAGE_DATE 1994 06 18 source image date as yyyy mm dd*
SOURCE_DEM_DATE 1997 01 01 source dem date yyyy mm dd*
AGENCY "WESTERN MAPPING CENTER (WMC)" oversight agency*
PRODUCER "SCIENCE APPLICATIONS INTERNATIONAL" producer/contractor*
PRODUCTION_SYSTEM "GIS/MAGIC" production system*
STANDARD_VERSION 1996 12 version of DOQ standard*
METADATA_DATE 1999 12 14 date created or changed, yyyy mm dd*
DATA_FILE_SIZE 48288600 data set size in bytes*
BYTE_COUNT 6255 header byte count* * * * * * * * * * * * * * * * * * * * * * * * * * *
END_USGS_HEADER *
