BEGIN_USGS_DOQ_HEADER *
QUADRANGLE_NAME "MICHIGAN BLUFF" 3.45 or 7.5-min. name*
QUADRANT NE quadrant indicator if cell size = 3.75-minutes*
WEST_LONGITUDE -120 41 15.000 signed deg min sec SDDD MM SS.SSS*
EAST_LONGITUDE -120 37 30.000 signed deg min sec SDDD MM SS.SSS*
NORTH_LATITUDE 39 7 30.000 signed deg min sec SDDD MM SS.SSS*
SOUTH_LATITUDE 39 3 45.000 signed deg min sec SDDD MM SS.SSS*
PRODUCTION_DATE 2000 10 4 yyyy mm dd*
RASTER_ORDER LEFT_RIGHT/TOP_BOTTOM video display order*
BAND_ORGANIZATION "SINGLE FILE" single file or BSQ, or BIL or BIP*
BAND_CONTENT BLACK&WHITE black&white or red green blue*
BITS_PER_PIXEL 8 radiometric resolution*
SAMPLES_AND_LINES 6277 7693 number of columns and rows*
HORIZONTAL_DATUM NAD83 primary horizontal datum*
HORIZONTAL_COORDINATE_SYSTEM UTM *
COORDINATE_ZONE 10 coordinate system zone number*
HORIZONTAL_UNITS METERS coordinate system units*
HORIZONTAL_RESOLUTION 1.00 pixel horiz. ground sample distance*
SECONDARY_HORIZONTAL_DATUM NAD27 secondary horizontal datum*
XY_ORIGIN 699511.000 4333635.000 coord. of upper left pixel pri. datum*
SECONDARY_XY_ORIGIN 699605.936 4333440.128 coord upper left pixel sec datum*
NATION US nation code*
STATE CA state fip code*
NW_QUAD_CORNER_XY 699901.794 4333194.454 XY coords. of pri. NW quad corner*
NE_QUAD_CORNER_XY 705305.173 4333334.006 XY coords. of pri. NE quad corner*
SE_QUAD_CORNER_XY 705486.605 4326396.970 XY coords. of pri. SE quad corner*
SW_QUAD_CORNER_XY 700078.445 4326257.482 XY coords. of pri. SW quad corner*
SECONDARY_NW_QUAD_XY 699906.935 4332986.285 XY coords. - sec. NW quad cor.*
SECONDARY_NE_QUAD_XY 705310.453 4333125.841 XY coords. - sec. NE quad cor.*
SECONDARY_SE_QUAD_XY 705491.882 4326188.940 XY coords. - sec. SE quad cor.*
SECONDARY_SW_QUAD_XY 700083.582 4326049.448 XY coords. - sec. SW quad cor.*
RMSE_XY 2.20 doq horiz. accuracy*
IMAGE_SOURCE "BLACK AND WHITE FILM" b&w, cir, natural color, other*
SOURCE_IMAGE_ID "NAPP 10549 014" source image id*
SOURCE_IMAGE_DATE 1998 08 20 source image date as yyyy mm dd*
SOURCE_IMAGE_ID "NAPP 10546 153" source image id*
SOURCE_IMAGE_DATE 1998 08 15 source image date as yyyy mm dd*
SOURCE_IMAGE_ID "NAPP 10546 154" source image id*
SOURCE_IMAGE_DATE 1998 08 15 source image date as yyyy mm dd*
SOURCE_IMAGE_ID "NAPP 10549 015" source image id*
SOURCE_IMAGE_DATE 1998 08 20 source image date as yyyy mm dd*
SOURCE_IMAGE_ID "NAPP 10549 013" source image id*
SOURCE_IMAGE_DATE 1998 08 20 source image date as yyyy mm dd*
SOURCE_IMAGE_ID "NAPP 10546 181" source image id*
SOURCE_IMAGE_DATE 1998 08 15 source image date as yyyy mm dd*
SOURCE_IMAGE_ID "NAPP 10546 180" source image id*
SOURCE_IMAGE_DATE 1998 08 15 source image date as yyyy mm dd*
SOURCE_DEM_DATE 2000 01 01 source dem date yyyy mm dd*
AGENCY "WESTERN MAPPING CENTER (WMC)" oversight agency*
PRODUCER "SCIENCE APPLICATIONS INTERNATIONAL" producer/contractor*
PRODUCTION_SYSTEM "GIS/MAGIC" production system*
STANDARD_VERSION 1996 12 version of DOQ standard*
METADATA_DATE 2000 12 01 date created or changed, yyyy mm dd*
DATA_FILE_SIZE 48295238 data set size in bytes*
BYTE_COUNT 6277 header byte count* * * * * * * * * * * * * * * * * * * * * * * *
END_USGS_HEADER *
